BEGIN:VCALENDAR
VERSION:2.0
PRODID:-//Heath Williams Ministries - ECPv6.15.20//NONSGML v1.0//EN
CALSCALE:GREGORIAN
METHOD:PUBLISH
X-WR-CALNAME:Heath Williams Ministries
X-ORIGINAL-URL:https://heathwilliams.org
X-WR-CALDESC:Events for Heath Williams Ministries
REFRESH-INTERVAL;VALUE=DURATION:PT1H
X-Robots-Tag:noindex
X-PUBLISHED-TTL:PT1H
BEGIN:VTIMEZONE
TZID:America/New_York
BEGIN:DAYLIGHT
TZOFFSETFROM:-0500
TZOFFSETTO:-0400
TZNAME:EDT
DTSTART:20230312T070000
END:DAYLIGHT
BEGIN:STANDARD
TZOFFSETFROM:-0400
TZOFFSETTO:-0500
TZNAME:EST
DTSTART:20231105T060000
END:STANDARD
BEGIN:DAYLIGHT
TZOFFSETFROM:-0500
TZOFFSETTO:-0400
TZNAME:EDT
DTSTART:20240310T070000
END:DAYLIGHT
BEGIN:STANDARD
TZOFFSETFROM:-0400
TZOFFSETTO:-0500
TZNAME:EST
DTSTART:20241103T060000
END:STANDARD
BEGIN:DAYLIGHT
TZOFFSETFROM:-0500
TZOFFSETTO:-0400
TZNAME:EDT
DTSTART:20250309T070000
END:DAYLIGHT
BEGIN:STANDARD
TZOFFSETFROM:-0400
TZOFFSETTO:-0500
TZNAME:EST
DTSTART:20251102T060000
END:STANDARD
BEGIN:DAYLIGHT
TZOFFSETFROM:-0500
TZOFFSETTO:-0400
TZNAME:EDT
DTSTART:20260308T070000
END:DAYLIGHT
BEGIN:STANDARD
TZOFFSETFROM:-0400
TZOFFSETTO:-0500
TZNAME:EST
DTSTART:20261101T060000
END:STANDARD
END:VTIMEZONE
BEGIN:VEVENT
DTSTART;VALUE=DATE:20250615
DTEND;VALUE=DATE:20250619
DTSTAMP:20260424T070737
CREATED:20250115T202824Z
LAST-MODIFIED:20250115T202824Z
UID:6719-1749945600-1750291199@heathwilliams.org
SUMMARY:Carbondale Baptist Church
DESCRIPTION:Sunday Services \nWeeknight Revival Services \nHeath Willaims
URL:https://heathwilliams.org/event/carbondale-baptist-church-4/
LOCATION:VA
END:VEVENT
BEGIN:VEVENT
DTSTART;VALUE=DATE:20250608
DTEND;VALUE=DATE:20250609
DTSTAMP:20260424T070737
CREATED:20250115T202744Z
LAST-MODIFIED:20250115T202744Z
UID:6714-1749340800-1749427199@heathwilliams.org
SUMMARY:Old Savannah Baptist Church
DESCRIPTION:Sunday Services \nHeath Willaims
URL:https://heathwilliams.org/event/old-savannah-baptist-church-2/
LOCATION:Old Savannah BC\, Sylva\, NC\, United States
END:VEVENT
BEGIN:VEVENT
DTSTART;VALUE=DATE:20250525
DTEND;VALUE=DATE:20250601
DTSTAMP:20260424T070737
CREATED:20250115T202438Z
LAST-MODIFIED:20250115T202438Z
UID:6709-1748131200-1748735999@heathwilliams.org
SUMMARY:Family Time
DESCRIPTION:Heath Willaims
URL:https://heathwilliams.org/event/family-time-3/
LOCATION:VA
END:VEVENT
BEGIN:VEVENT
DTSTART;VALUE=DATE:20250518
DTEND;VALUE=DATE:20250522
DTSTAMP:20260424T070737
CREATED:20250115T202357Z
LAST-MODIFIED:20250115T202357Z
UID:6703-1747526400-1747871999@heathwilliams.org
SUMMARY:New Life Baptist Church
DESCRIPTION:Sunday Evening \nWeeknight Revival Services \nHeath Willaims
URL:https://heathwilliams.org/event/new-life-baptist-church-5/
LOCATION:New Life Baptist Church\, 6413 Burlington Rd\, Roxboro\, NC\, United States
END:VEVENT
BEGIN:VEVENT
DTSTART;VALUE=DATE:20250516
DTEND;VALUE=DATE:20250518
DTSTAMP:20260424T070737
CREATED:20250115T202254Z
LAST-MODIFIED:20250115T202254Z
UID:6695-1747353600-1747526399@heathwilliams.org
SUMMARY:Calvary Baptist Womens Conference - Shayne
DESCRIPTION:Heath Willaims
URL:https://heathwilliams.org/event/calvary-baptist-womens-conference-shayne/
LOCATION:Calvary Baptist Church – Crawfordsville\, 128 E 400 S\, Crawfordsville\, IN\, 47933\, United States
END:VEVENT
BEGIN:VEVENT
DTSTART;VALUE=DATE:20250512
DTEND;VALUE=DATE:20250515
DTSTAMP:20260424T070737
CREATED:20250115T202018Z
LAST-MODIFIED:20250115T202018Z
UID:6690-1747008000-1747267199@heathwilliams.org
SUMMARY:Mill Creek Baptist Church
DESCRIPTION:Weeknight Revival Services \nHeath Willaims
URL:https://heathwilliams.org/event/mill-creek-baptist-church-3/
LOCATION:Mill Creek Baptist Church\, Fall Branch\, TN\, United States
END:VEVENT
BEGIN:VEVENT
DTSTART;VALUE=DATE:20250507
DTEND;VALUE=DATE:20250508
DTSTAMP:20260424T070737
CREATED:20250115T201806Z
LAST-MODIFIED:20250115T201806Z
UID:6684-1746576000-1746662399@heathwilliams.org
SUMMARY:Victory Baptist Camp Meeting
DESCRIPTION:Camp Meeting Service \nHeath Willaims
URL:https://heathwilliams.org/event/victory-baptist-camp-meeting/
LOCATION:Victory Baptist Church – Augusta\, North Augusta\, SC
END:VEVENT
BEGIN:VEVENT
DTSTART;VALUE=DATE:20250503
DTEND;VALUE=DATE:20250505
DTSTAMP:20260424T070737
CREATED:20250115T201712Z
LAST-MODIFIED:20250115T201712Z
UID:6678-1746230400-1746403199@heathwilliams.org
SUMMARY:Beulah Baptist Church
DESCRIPTION:Saturday Youth Rally \nSunday Services \nHeath Willaims
URL:https://heathwilliams.org/event/beulah-baptist-church-13/
LOCATION:Beulah Baptist Church\, Bennett\, North Carolina
END:VEVENT
BEGIN:VEVENT
DTSTART;VALUE=DATE:20250427
DTEND;VALUE=DATE:20250501
DTSTAMP:20260424T070737
CREATED:20250115T201619Z
LAST-MODIFIED:20250115T201619Z
UID:6673-1745712000-1746057599@heathwilliams.org
SUMMARY:Greatest Mission Baptist Church
DESCRIPTION:Sunday Services \nWeeknight Revival \nHeath Willaims
URL:https://heathwilliams.org/event/greatest-mission-baptist-church-7/
LOCATION:Greatest Mission Baptist Church\, Pontotoc\, MS\, United States
END:VEVENT
BEGIN:VEVENT
DTSTART;VALUE=DATE:20250413
DTEND;VALUE=DATE:20250419
DTSTAMP:20260424T070737
CREATED:20250115T201441Z
LAST-MODIFIED:20250115T201441Z
UID:6667-1744502400-1745020799@heathwilliams.org
SUMMARY:Spruce Street Baptist Church
DESCRIPTION:Tent Meeting \nHeath Willaims
URL:https://heathwilliams.org/event/spruce-street-baptist-church/
LOCATION:Spruce Street Baptist Church\, 407 Spruce St\, Lexington\, NC\, 27292\, United States
END:VEVENT
BEGIN:VEVENT
DTSTART;VALUE=DATE:20250406
DTEND;VALUE=DATE:20250407
DTSTAMP:20260424T070737
CREATED:20250115T201231Z
LAST-MODIFIED:20250115T201231Z
UID:6661-1743897600-1743983999@heathwilliams.org
SUMMARY:Truth Baptist Church
DESCRIPTION:Sunday Services \nHeath Willaims
URL:https://heathwilliams.org/event/truth-baptist-church/
LOCATION:Truth Baptist Church\, 6528 Covingtons Corner Rd\, Bealeton\, 22712\, United States
END:VEVENT
BEGIN:VEVENT
DTSTART;VALUE=DATE:20250330
DTEND;VALUE=DATE:20250404
DTSTAMP:20260424T070737
CREATED:20250115T201056Z
LAST-MODIFIED:20250115T201056Z
UID:6656-1743292800-1743724799@heathwilliams.org
SUMMARY:Southside Baptist Church
DESCRIPTION:Sunday Services \nWeeknight Revival Services 7pm \nHeath Willaims
URL:https://heathwilliams.org/event/southside-baptist-church-7/
LOCATION:Southside Baptist Church\, 2920 Browns Landing Road\, Palatka\, FL\, 32177\, United States
END:VEVENT
BEGIN:VEVENT
DTSTART;VALUE=DATE:20250323
DTEND;VALUE=DATE:20250329
DTSTAMP:20260424T070737
CREATED:20250115T201011Z
LAST-MODIFIED:20250115T201011Z
UID:6651-1742688000-1743206399@heathwilliams.org
SUMMARY:Myrtle Work Trip
DESCRIPTION:Mission Trip/ Myrtle\, MS \nHeath Willaims
URL:https://heathwilliams.org/event/myrtle-work-trip-3/
LOCATION:VA
END:VEVENT
BEGIN:VEVENT
DTSTART;VALUE=DATE:20250316
DTEND;VALUE=DATE:20250320
DTSTAMP:20260424T070737
CREATED:20250115T200939Z
LAST-MODIFIED:20250115T200939Z
UID:6646-1742083200-1742428799@heathwilliams.org
SUMMARY:Wheeler Grove Baptist Church
DESCRIPTION:Sunday Services \nWeeknight Revival Services 7pm \nHeath Willaims
URL:https://heathwilliams.org/event/wheeler-grove-baptist-church-5/
LOCATION:Wheeler Grove Baptist\, Corinth\, MS\, United States
END:VEVENT
BEGIN:VEVENT
DTSTART;VALUE=DATE:20250310
DTEND;VALUE=DATE:20250313
DTSTAMP:20260424T070737
CREATED:20250115T200855Z
LAST-MODIFIED:20250115T200855Z
UID:6641-1741564800-1741823999@heathwilliams.org
SUMMARY:Camp Zion
DESCRIPTION:Heath Willaims
URL:https://heathwilliams.org/event/camp-zion-7/
LOCATION:Camp Zion\, 1718 Ms-178\, Myrtle\, MS\, United States
END:VEVENT
BEGIN:VEVENT
DTSTART;VALUE=DATE:20250309
DTEND;VALUE=DATE:20250310
DTSTAMP:20260424T070737
CREATED:20250115T200831Z
LAST-MODIFIED:20250115T200831Z
UID:6635-1741478400-1741564799@heathwilliams.org
SUMMARY:Bible Baptist Church
DESCRIPTION:Sunday Services \nHeath Willaims
URL:https://heathwilliams.org/event/bible-baptist-church-5/
LOCATION:Bible Baptist Church\, 233 Harrison Bridge Rd\, Simpsonville\, SC\, United States
END:VEVENT
BEGIN:VEVENT
DTSTART;VALUE=DATE:20250302
DTEND;VALUE=DATE:20250306
DTSTAMP:20260424T070737
CREATED:20250115T200744Z
LAST-MODIFIED:20250115T200744Z
UID:6630-1740873600-1741219199@heathwilliams.org
SUMMARY:Oak Glenn Baptist Church
DESCRIPTION:Sunday Services \nWeeknight Revival 7pm \nHeath Willaims
URL:https://heathwilliams.org/event/oak-glenn-baptist-church-4/
LOCATION:Oak Glenn Baptist\, Yuma\, VA\, United States
END:VEVENT
BEGIN:VEVENT
DTSTART;VALUE=DATE:20250223
DTEND;VALUE=DATE:20250224
DTSTAMP:20260424T070737
CREATED:20240725T153647Z
LAST-MODIFIED:20240725T153647Z
UID:6535-1740268800-1740355199@heathwilliams.org
SUMMARY:Victory Baptist Church
DESCRIPTION:Pastor Von Ramsey \nHeath Willaims
URL:https://heathwilliams.org/event/victory-baptist-church-22/
LOCATION:Victory Baptist Church – Denver\, Denver\, NC\, United States
END:VEVENT
BEGIN:VEVENT
DTSTART;VALUE=DATE:20250219
DTEND;VALUE=DATE:20250223
DTSTAMP:20260424T070737
CREATED:20240725T153717Z
LAST-MODIFIED:20250115T200525Z
UID:6540-1739923200-1740268799@heathwilliams.org
SUMMARY:Oasis Leadership Conference
DESCRIPTION:Heath Williams Ministries \nHeath Willaims
URL:https://heathwilliams.org/event/oasis-leadership-conference-3/
LOCATION:VA
END:VEVENT
BEGIN:VEVENT
DTSTART;VALUE=DATE:20250216
DTEND;VALUE=DATE:20250217
DTSTAMP:20260424T070737
CREATED:20240725T154609Z
LAST-MODIFIED:20240725T154609Z
UID:6545-1739664000-1739750399@heathwilliams.org
SUMMARY:Piney Grove Baptist Church
DESCRIPTION:Pastor Brent Dula \nHeath Willaims
URL:https://heathwilliams.org/event/piney-grove-baptist-church-5/
LOCATION:Piney Grove Baptist Church\, 2331 Piney Grove\, Lenoir\, NC\, United States
END:VEVENT
BEGIN:VEVENT
DTSTART;VALUE=DATE:20250209
DTEND;VALUE=DATE:20250210
DTSTAMP:20260424T070737
CREATED:20240725T153232Z
LAST-MODIFIED:20250115T200331Z
UID:6526-1739059200-1739145599@heathwilliams.org
SUMMARY:Crossroads Baptist Church
DESCRIPTION:AM only \nPastor Kenny Kuykendall \nHeath Willaims
URL:https://heathwilliams.org/event/vickers-chapel/
LOCATION:Crossroads Baptist Church\, Prospect Church Road\, Lawrenceville\, GA\, United States
END:VEVENT
BEGIN:VEVENT
DTSTART;VALUE=DATE:20250203
DTEND;VALUE=DATE:20250208
DTSTAMP:20260424T070737
CREATED:20240725T153143Z
LAST-MODIFIED:20240725T153143Z
UID:6521-1738540800-1738972799@heathwilliams.org
SUMMARY:Older Men Prayer Retreat
DESCRIPTION:Heath Willaims
URL:https://heathwilliams.org/event/older-men-prayer-retreat/
LOCATION:VA
END:VEVENT
BEGIN:VEVENT
DTSTART;VALUE=DATE:20250126
DTEND;VALUE=DATE:20250127
DTSTAMP:20260424T070737
CREATED:20240725T153111Z
LAST-MODIFIED:20240725T153455Z
UID:6516-1737849600-1737935999@heathwilliams.org
SUMMARY:Parkway Baptist Church
DESCRIPTION:Pastor David Sampson \nHeath Willaims
URL:https://heathwilliams.org/event/parkway-baptist-church-3/
LOCATION:Parkway Baptist Church\, 65 Stuart Road\, Fort Olgethorpe\, GA\, United States
END:VEVENT
BEGIN:VEVENT
DTSTART;VALUE=DATE:20250120
DTEND;VALUE=DATE:20250125
DTSTAMP:20260424T070737
CREATED:20240725T153039Z
LAST-MODIFIED:20240725T153039Z
UID:6511-1737331200-1737763199@heathwilliams.org
SUMMARY:Young Men Prayer Retreat
DESCRIPTION:Heath Willaims
URL:https://heathwilliams.org/event/young-men-prayer-retreat/
LOCATION:VA
END:VEVENT
BEGIN:VEVENT
DTSTART;VALUE=DATE:20250112
DTEND;VALUE=DATE:20250116
DTSTAMP:20260424T070737
CREATED:20240725T152955Z
LAST-MODIFIED:20240725T152955Z
UID:6506-1736640000-1736985599@heathwilliams.org
SUMMARY:Faith Baptist Church
DESCRIPTION:Pastor Tommy Griffin \nHeath Willaims
URL:https://heathwilliams.org/event/faith-baptist-church-8/
LOCATION:Faith Baptist Church – TN\, Blountville\, TN\, United States
END:VEVENT
BEGIN:VEVENT
DTSTART;VALUE=DATE:20250105
DTEND;VALUE=DATE:20250111
DTSTAMP:20260424T070737
CREATED:20240725T152841Z
LAST-MODIFIED:20240725T152841Z
UID:6501-1736035200-1736553599@heathwilliams.org
SUMMARY:Power Conference
DESCRIPTION:Pastor Daniel Buchanan \nHeath Willaims
URL:https://heathwilliams.org/event/power-conference-7/
LOCATION:New Beginnings Baptist Church\, 4415 Calico Road\, Lenoir\, NC\, United States
END:VEVENT
BEGIN:VEVENT
DTSTART;VALUE=DATE:20241222
DTEND;VALUE=DATE:20241223
DTSTAMP:20260424T070737
CREATED:20240725T152808Z
LAST-MODIFIED:20240725T152808Z
UID:6496-1734825600-1734911999@heathwilliams.org
SUMMARY:Carbondale Baptist Church
DESCRIPTION:Pastor Jeff Floyd \nHeath Willaims
URL:https://heathwilliams.org/event/carbondale-baptist-church-3/
LOCATION:Carbondale Baptitst Church\, West Virginia
END:VEVENT
BEGIN:VEVENT
DTSTART;VALUE=DATE:20241208
DTEND;VALUE=DATE:20241211
DTSTAMP:20260424T070737
CREATED:20240725T152634Z
LAST-MODIFIED:20240725T152634Z
UID:6491-1733616000-1733875199@heathwilliams.org
SUMMARY:Calvary Baptist Church
DESCRIPTION:Pastor Grayson McNeil \nHeath Willaims
URL:https://heathwilliams.org/event/calvary-baptist-church-3/
LOCATION:Calvary BC – Asheboro\, Asheboro\, NC\, United States
END:VEVENT
BEGIN:VEVENT
DTSTART;VALUE=DATE:20241201
DTEND;VALUE=DATE:20241202
DTSTAMP:20260424T070737
CREATED:20240725T152421Z
LAST-MODIFIED:20240725T152421Z
UID:6486-1733011200-1733097599@heathwilliams.org
SUMMARY:Victory Baptist Church
DESCRIPTION:Pastor CT Townsend \nHeath Willaims
URL:https://heathwilliams.org/event/victory-baptist-church-21/
LOCATION:Victory Baptist Church – Augusta\, North Augusta\, SC
END:VEVENT
BEGIN:VEVENT
DTSTART;VALUE=DATE:20241124
DTEND;VALUE=DATE:20241125
DTSTAMP:20260424T070737
CREATED:20240725T152347Z
LAST-MODIFIED:20240725T152347Z
UID:6481-1732406400-1732492799@heathwilliams.org
SUMMARY:Gateway Baptist Church
DESCRIPTION:Pastor Davey Shelton \nHeath Willaims
URL:https://heathwilliams.org/event/gateway-baptist-church-7/
LOCATION:Gateway Baptist Church\, 1600 Old Furnace Rd\, Boiling Springs\, SC\, 29316\, United States
END:VEVENT
END:VCALENDAR