BEGIN:VCALENDAR
VERSION:2.0
PRODID:-//Heath Williams Ministries - ECPv6.15.20//NONSGML v1.0//EN
CALSCALE:GREGORIAN
METHOD:PUBLISH
X-WR-CALNAME:Heath Williams Ministries
X-ORIGINAL-URL:https://heathwilliams.org
X-WR-CALDESC:Events for Heath Williams Ministries
REFRESH-INTERVAL;VALUE=DURATION:PT1H
X-Robots-Tag:noindex
X-PUBLISHED-TTL:PT1H
BEGIN:VTIMEZONE
TZID:America/New_York
BEGIN:DAYLIGHT
TZOFFSETFROM:-0500
TZOFFSETTO:-0400
TZNAME:EDT
DTSTART:20240310T070000
END:DAYLIGHT
BEGIN:STANDARD
TZOFFSETFROM:-0400
TZOFFSETTO:-0500
TZNAME:EST
DTSTART:20241103T060000
END:STANDARD
BEGIN:DAYLIGHT
TZOFFSETFROM:-0500
TZOFFSETTO:-0400
TZNAME:EDT
DTSTART:20250309T070000
END:DAYLIGHT
BEGIN:STANDARD
TZOFFSETFROM:-0400
TZOFFSETTO:-0500
TZNAME:EST
DTSTART:20251102T060000
END:STANDARD
BEGIN:DAYLIGHT
TZOFFSETFROM:-0500
TZOFFSETTO:-0400
TZNAME:EDT
DTSTART:20260308T070000
END:DAYLIGHT
BEGIN:STANDARD
TZOFFSETFROM:-0400
TZOFFSETTO:-0500
TZNAME:EST
DTSTART:20261101T060000
END:STANDARD
END:VTIMEZONE
BEGIN:VEVENT
DTSTART;VALUE=DATE:20250922
DTEND;VALUE=DATE:20250927
DTSTAMP:20260424T035059
CREATED:20250824T195529Z
LAST-MODIFIED:20250824T195606Z
UID:6939-1758499200-1758931199@heathwilliams.org
SUMMARY:Midwest Tent Revival
DESCRIPTION:7pm Nightly \nPastor Randy Glenn \nHeath Willaims
URL:https://heathwilliams.org/event/midwest-tent-meeting-3/
LOCATION:Midwest Tent Revival\, Indiana
END:VEVENT
BEGIN:VEVENT
DTSTART;VALUE=DATE:20250921
DTEND;VALUE=DATE:20250922
DTSTAMP:20260424T035059
CREATED:20250824T191816Z
LAST-MODIFIED:20250824T191816Z
UID:6857-1758412800-1758499199@heathwilliams.org
SUMMARY:Lincoln Land Baptist Church
DESCRIPTION:Springfield\, IL \nAM Services \nHeath Willaims
URL:https://heathwilliams.org/event/lincoln-land-baptist-church-2/
LOCATION:Lincoln Land Baptist Church\, 4474 Camp Butler Rd\, Springfield\, IL
END:VEVENT
BEGIN:VEVENT
DTSTART;VALUE=DATE:20250914
DTEND;VALUE=DATE:20250920
DTSTAMP:20260424T035059
CREATED:20250824T191651Z
LAST-MODIFIED:20250824T191651Z
UID:6853-1757808000-1758326399@heathwilliams.org
SUMMARY:Midwest Tent Revival
DESCRIPTION:7PM Nightly \nPastor Randy Glenn \nHeath Willaims
URL:https://heathwilliams.org/event/midwest-tent-revival-5/
LOCATION:Calvary Baptist Church – Crawfordsville\, 128 E 400 S\, Crawfordsville\, IN\, 47933\, United States
END:VEVENT
BEGIN:VEVENT
DTSTART;VALUE=DATE:20250909
DTEND;VALUE=DATE:20250913
DTSTAMP:20260424T035059
CREATED:20250824T191534Z
LAST-MODIFIED:20250824T191534Z
UID:6849-1757376000-1757721599@heathwilliams.org
SUMMARY:Family Time
DESCRIPTION:Booked Off \nHeath Willaims
URL:https://heathwilliams.org/event/family-time-6/
END:VEVENT
BEGIN:VEVENT
DTSTART;VALUE=DATE:20250907
DTEND;VALUE=DATE:20250908
DTSTAMP:20260424T035059
CREATED:20250824T191503Z
LAST-MODIFIED:20250824T191503Z
UID:6845-1757203200-1757289599@heathwilliams.org
SUMMARY:Alvarado Baptist Church
DESCRIPTION:Pastor Jacob Doss \nAM & PM services \nHeath Willaims
URL:https://heathwilliams.org/event/alvarado-baptist-church/
LOCATION:Alvarado Bible Church\, 21206 Alvarado Rd\, Abingdon\, VA\, 24211\, United States
END:VEVENT
BEGIN:VEVENT
DTSTART;VALUE=DATE:20250901
DTEND;VALUE=DATE:20250906
DTSTAMP:20260424T035059
CREATED:20250824T191327Z
LAST-MODIFIED:20250824T191327Z
UID:6841-1756684800-1757116799@heathwilliams.org
SUMMARY:Prayer Trip
DESCRIPTION:Myrtle\, MS \nHeath Willaims
URL:https://heathwilliams.org/event/prayer-trip-2/
END:VEVENT
BEGIN:VEVENT
DTSTART;VALUE=DATE:20250825
DTEND;VALUE=DATE:20250830
DTSTAMP:20260424T035059
CREATED:20250824T191245Z
LAST-MODIFIED:20250824T191245Z
UID:6837-1756080000-1756511999@heathwilliams.org
SUMMARY:Mount Victory
DESCRIPTION:7pm nightly \nPastor Ethan Greene \nHeath Willaims
URL:https://heathwilliams.org/event/mount-victory-4/
LOCATION:Mount Victory\, 507 Mill Timber Creek Road\, Newlnd\, NC\, 28657\, United States
END:VEVENT
BEGIN:VEVENT
DTSTART;VALUE=DATE:20250824
DTEND;VALUE=DATE:20250825
DTSTAMP:20260424T035059
CREATED:20250824T191208Z
LAST-MODIFIED:20250824T191208Z
UID:6833-1755993600-1756079999@heathwilliams.org
SUMMARY:Stanleytown Amazing Grace Baptist Church
DESCRIPTION:AM only \nPastor Hodges \nHeath Willaims
URL:https://heathwilliams.org/event/stanleytown-amazing-grace-baptist-church-7/
LOCATION:Stanleytown Amazing Grace BC\, Stanleytown\, VA\, United States
END:VEVENT
BEGIN:VEVENT
DTSTART;VALUE=DATE:20250817
DTEND;VALUE=DATE:20250818
DTSTAMP:20260424T035059
CREATED:20250824T191116Z
LAST-MODIFIED:20250824T191116Z
UID:6829-1755388800-1755475199@heathwilliams.org
SUMMARY:Liberty Baptist Church
DESCRIPTION:Heath Willaims
URL:https://heathwilliams.org/event/liberty-baptist-church-5/
LOCATION:Liberty Baptist Church\, Bowden\, GA\, United States
END:VEVENT
BEGIN:VEVENT
DTSTART;VALUE=DATE:20250809
DTEND;VALUE=DATE:20250817
DTSTAMP:20260424T035059
CREATED:20250824T191039Z
LAST-MODIFIED:20250824T191039Z
UID:6825-1754697600-1755388799@heathwilliams.org
SUMMARY:Family Time
DESCRIPTION:Booked Off \nHeath Willaims
URL:https://heathwilliams.org/event/family-time-5/
END:VEVENT
BEGIN:VEVENT
DTSTART;VALUE=DATE:20250804
DTEND;VALUE=DATE:20250808
DTSTAMP:20260424T035059
CREATED:20250824T191005Z
LAST-MODIFIED:20250824T191005Z
UID:6821-1754265600-1754611199@heathwilliams.org
SUMMARY:Camp Victory
DESCRIPTION:Pastor Daniel Buchanan \n7pm Nightly \nHeath Willaims
URL:https://heathwilliams.org/event/camp-victory-3/
LOCATION:New Beginnings Baptist Church\, 4415 Calico Road\, Lenoir\, NC\, United States
END:VEVENT
BEGIN:VEVENT
DTSTART;VALUE=DATE:20250803
DTEND;VALUE=DATE:20250804
DTSTAMP:20260424T035059
CREATED:20250824T190849Z
LAST-MODIFIED:20250824T190849Z
UID:6817-1754179200-1754265599@heathwilliams.org
SUMMARY:Liberty Baptist Church
DESCRIPTION:Durham\, NC \nPastor Scott Gray \nHeath Willaims
URL:https://heathwilliams.org/event/liberty-baptist-church-4/
END:VEVENT
BEGIN:VEVENT
DTSTART;VALUE=DATE:20250723
DTEND;VALUE=DATE:20250728
DTSTAMP:20260424T035059
CREATED:20250824T190757Z
LAST-MODIFIED:20250824T190757Z
UID:6813-1753228800-1753660799@heathwilliams.org
SUMMARY:Land of the Sky Jubilee
DESCRIPTION:Trinity Baptist Church \nPastor Winston Parrish \nHeath Willaims
URL:https://heathwilliams.org/event/land-of-the-sky-jubilee-4/
LOCATION:Trinity Baptist Church Asheville\, Asheville\, NC\, United States
END:VEVENT
BEGIN:VEVENT
DTSTART;VALUE=DATE:20250720
DTEND;VALUE=DATE:20250721
DTSTAMP:20260424T035059
CREATED:20250824T190654Z
LAST-MODIFIED:20250824T190654Z
UID:6808-1752969600-1753055999@heathwilliams.org
SUMMARY:Temple Baptist Church
DESCRIPTION:Knoxville\, TN \nHeath Willaims
URL:https://heathwilliams.org/event/temple-baptist-church-4/
LOCATION:Temple Baptist Church\, Knoxville\, TN\, United States
END:VEVENT
BEGIN:VEVENT
DTSTART;VALUE=DATE:20250714
DTEND;VALUE=DATE:20250718
DTSTAMP:20260424T035059
CREATED:20250824T190600Z
LAST-MODIFIED:20250824T190600Z
UID:6804-1752451200-1752796799@heathwilliams.org
SUMMARY:Arise Youth Conference
DESCRIPTION:Pigeon Forge \nCT Townsend Ministries \nHeath Willaims
URL:https://heathwilliams.org/event/arise-youth-conference-6/
LOCATION:Leconte Conference Center\, Pigeon Forge\, TN
END:VEVENT
BEGIN:VEVENT
DTSTART;VALUE=DATE:20250706
DTEND;VALUE=DATE:20250713
DTSTAMP:20260424T035059
CREATED:20250115T203418Z
LAST-MODIFIED:20250115T203418Z
UID:6747-1751760000-1752364799@heathwilliams.org
SUMMARY:Family Time
DESCRIPTION:Heath Willaims
URL:https://heathwilliams.org/event/family-time-4/
END:VEVENT
BEGIN:VEVENT
DTSTART;VALUE=DATE:20250629
DTEND;VALUE=DATE:20250630
DTSTAMP:20260424T035059
CREATED:20250115T203343Z
LAST-MODIFIED:20250115T203343Z
UID:6741-1751155200-1751241599@heathwilliams.org
SUMMARY:Roberta Baptist Church
DESCRIPTION:Sunday Services \nHeath Willaims
URL:https://heathwilliams.org/event/roberta-baptist-church/
LOCATION:Roberta Baptist Church\, 301 Roberta Rd\, Concord\, NC\, 28027\, United States
END:VEVENT
BEGIN:VEVENT
DTSTART;VALUE=DATE:20250625
DTEND;VALUE=DATE:20250628
DTSTAMP:20260424T035059
CREATED:20250115T203155Z
LAST-MODIFIED:20250115T203155Z
UID:6735-1750809600-1751068799@heathwilliams.org
SUMMARY:Northeast Texas Camp Meeting
DESCRIPTION:Heath Willaims
URL:https://heathwilliams.org/event/northeast-texas-camp-meeting/
LOCATION:God’s Little Acre\, Simms\, Texas\, United States
END:VEVENT
BEGIN:VEVENT
DTSTART;VALUE=DATE:20250622
DTEND;VALUE=DATE:20250623
DTSTAMP:20260424T035059
CREATED:20250115T203016Z
LAST-MODIFIED:20250115T203016Z
UID:6729-1750550400-1750636799@heathwilliams.org
SUMMARY:Waits Baptist Church
DESCRIPTION:Sunday Services \nHeath Willaims
URL:https://heathwilliams.org/event/waits-baptist-church/
LOCATION:Waits Baptist Church\, 1889 St. Rt. 140\, Portsmouth\, OH\, United States
END:VEVENT
BEGIN:VEVENT
DTSTART;VALUE=DATE:20250620
DTEND;VALUE=DATE:20250621
DTSTAMP:20260424T035059
CREATED:20250115T202901Z
LAST-MODIFIED:20250115T202901Z
UID:6724-1750377600-1750463999@heathwilliams.org
SUMMARY:Mt. Victory Youth Camp
DESCRIPTION:Heath Willaims
URL:https://heathwilliams.org/event/mt-victory-youth-camp/
LOCATION:Mount Victory\, 507 Mill Timber Creek Road\, Newlnd\, NC\, 28657\, United States
END:VEVENT
BEGIN:VEVENT
DTSTART;VALUE=DATE:20250615
DTEND;VALUE=DATE:20250619
DTSTAMP:20260424T035059
CREATED:20250115T202824Z
LAST-MODIFIED:20250115T202824Z
UID:6719-1749945600-1750291199@heathwilliams.org
SUMMARY:Carbondale Baptist Church
DESCRIPTION:Sunday Services \nWeeknight Revival Services \nHeath Willaims
URL:https://heathwilliams.org/event/carbondale-baptist-church-4/
END:VEVENT
BEGIN:VEVENT
DTSTART;VALUE=DATE:20250608
DTEND;VALUE=DATE:20250609
DTSTAMP:20260424T035059
CREATED:20250115T202744Z
LAST-MODIFIED:20250115T202744Z
UID:6714-1749340800-1749427199@heathwilliams.org
SUMMARY:Old Savannah Baptist Church
DESCRIPTION:Sunday Services \nHeath Willaims
URL:https://heathwilliams.org/event/old-savannah-baptist-church-2/
LOCATION:Old Savannah BC\, Sylva\, NC\, United States
END:VEVENT
BEGIN:VEVENT
DTSTART;VALUE=DATE:20250525
DTEND;VALUE=DATE:20250601
DTSTAMP:20260424T035059
CREATED:20250115T202438Z
LAST-MODIFIED:20250115T202438Z
UID:6709-1748131200-1748735999@heathwilliams.org
SUMMARY:Family Time
DESCRIPTION:Heath Willaims
URL:https://heathwilliams.org/event/family-time-3/
END:VEVENT
BEGIN:VEVENT
DTSTART;VALUE=DATE:20250518
DTEND;VALUE=DATE:20250522
DTSTAMP:20260424T035059
CREATED:20250115T202357Z
LAST-MODIFIED:20250115T202357Z
UID:6703-1747526400-1747871999@heathwilliams.org
SUMMARY:New Life Baptist Church
DESCRIPTION:Sunday Evening \nWeeknight Revival Services \nHeath Willaims
URL:https://heathwilliams.org/event/new-life-baptist-church-5/
LOCATION:New Life Baptist Church\, 6413 Burlington Rd\, Roxboro\, NC\, United States
END:VEVENT
BEGIN:VEVENT
DTSTART;VALUE=DATE:20250516
DTEND;VALUE=DATE:20250518
DTSTAMP:20260424T035059
CREATED:20250115T202254Z
LAST-MODIFIED:20250115T202254Z
UID:6695-1747353600-1747526399@heathwilliams.org
SUMMARY:Calvary Baptist Womens Conference - Shayne
DESCRIPTION:Heath Willaims
URL:https://heathwilliams.org/event/calvary-baptist-womens-conference-shayne/
LOCATION:Calvary Baptist Church – Crawfordsville\, 128 E 400 S\, Crawfordsville\, IN\, 47933\, United States
END:VEVENT
BEGIN:VEVENT
DTSTART;VALUE=DATE:20250512
DTEND;VALUE=DATE:20250515
DTSTAMP:20260424T035059
CREATED:20250115T202018Z
LAST-MODIFIED:20250115T202018Z
UID:6690-1747008000-1747267199@heathwilliams.org
SUMMARY:Mill Creek Baptist Church
DESCRIPTION:Weeknight Revival Services \nHeath Willaims
URL:https://heathwilliams.org/event/mill-creek-baptist-church-3/
LOCATION:Mill Creek Baptist Church\, Fall Branch\, TN\, United States
END:VEVENT
BEGIN:VEVENT
DTSTART;VALUE=DATE:20250507
DTEND;VALUE=DATE:20250508
DTSTAMP:20260424T035059
CREATED:20250115T201806Z
LAST-MODIFIED:20250115T201806Z
UID:6684-1746576000-1746662399@heathwilliams.org
SUMMARY:Victory Baptist Camp Meeting
DESCRIPTION:Camp Meeting Service \nHeath Willaims
URL:https://heathwilliams.org/event/victory-baptist-camp-meeting/
LOCATION:Victory Baptist Church – Augusta\, North Augusta\, SC
END:VEVENT
BEGIN:VEVENT
DTSTART;VALUE=DATE:20250503
DTEND;VALUE=DATE:20250505
DTSTAMP:20260424T035059
CREATED:20250115T201712Z
LAST-MODIFIED:20250115T201712Z
UID:6678-1746230400-1746403199@heathwilliams.org
SUMMARY:Beulah Baptist Church
DESCRIPTION:Saturday Youth Rally \nSunday Services \nHeath Willaims
URL:https://heathwilliams.org/event/beulah-baptist-church-13/
LOCATION:Beulah Baptist Church\, Bennett\, North Carolina
END:VEVENT
BEGIN:VEVENT
DTSTART;VALUE=DATE:20250427
DTEND;VALUE=DATE:20250501
DTSTAMP:20260424T035059
CREATED:20250115T201619Z
LAST-MODIFIED:20250115T201619Z
UID:6673-1745712000-1746057599@heathwilliams.org
SUMMARY:Greatest Mission Baptist Church
DESCRIPTION:Sunday Services \nWeeknight Revival \nHeath Willaims
URL:https://heathwilliams.org/event/greatest-mission-baptist-church-7/
LOCATION:Greatest Mission Baptist Church\, Pontotoc\, MS\, United States
END:VEVENT
BEGIN:VEVENT
DTSTART;VALUE=DATE:20250413
DTEND;VALUE=DATE:20250419
DTSTAMP:20260424T035059
CREATED:20250115T201441Z
LAST-MODIFIED:20250115T201441Z
UID:6667-1744502400-1745020799@heathwilliams.org
SUMMARY:Spruce Street Baptist Church
DESCRIPTION:Tent Meeting \nHeath Willaims
URL:https://heathwilliams.org/event/spruce-street-baptist-church/
LOCATION:Spruce Street Baptist Church\, 407 Spruce St\, Lexington\, NC\, 27292\, United States
END:VEVENT
END:VCALENDAR