BEGIN:VCALENDAR
VERSION:2.0
PRODID:-//Heath Williams Ministries - ECPv6.15.20//NONSGML v1.0//EN
CALSCALE:GREGORIAN
METHOD:PUBLISH
X-ORIGINAL-URL:https://heathwilliams.org
X-WR-CALDESC:Events for Heath Williams Ministries
REFRESH-INTERVAL;VALUE=DURATION:PT1H
X-Robots-Tag:noindex
X-PUBLISHED-TTL:PT1H
BEGIN:VTIMEZONE
TZID:America/New_York
BEGIN:DAYLIGHT
TZOFFSETFROM:-0500
TZOFFSETTO:-0400
TZNAME:EDT
DTSTART:20250309T070000
END:DAYLIGHT
BEGIN:STANDARD
TZOFFSETFROM:-0400
TZOFFSETTO:-0500
TZNAME:EST
DTSTART:20251102T060000
END:STANDARD
BEGIN:DAYLIGHT
TZOFFSETFROM:-0500
TZOFFSETTO:-0400
TZNAME:EDT
DTSTART:20260308T070000
END:DAYLIGHT
BEGIN:STANDARD
TZOFFSETFROM:-0400
TZOFFSETTO:-0500
TZNAME:EST
DTSTART:20261101T060000
END:STANDARD
BEGIN:DAYLIGHT
TZOFFSETFROM:-0500
TZOFFSETTO:-0400
TZNAME:EDT
DTSTART:20270314T070000
END:DAYLIGHT
BEGIN:STANDARD
TZOFFSETFROM:-0400
TZOFFSETTO:-0500
TZNAME:EST
DTSTART:20271107T060000
END:STANDARD
END:VTIMEZONE
BEGIN:VEVENT
DTSTART;VALUE=DATE:20261004
DTEND;VALUE=DATE:20261008
DTSTAMP:20260424T002012
CREATED:20260317T235641Z
LAST-MODIFIED:20260317T235641Z
UID:7381-1791072000-1791417599@heathwilliams.org
SUMMARY:New Home Baptist Church
DESCRIPTION:Heath Willaims
URL:https://heathwilliams.org/event/new-home-baptist-church-4/
LOCATION:New Home Baptist Church\, Pisgah\, AL\, United States
END:VEVENT
BEGIN:VEVENT
DTSTART;VALUE=DATE:20261011
DTEND;VALUE=DATE:20261015
DTSTAMP:20260424T002012
CREATED:20260317T235724Z
LAST-MODIFIED:20260317T235724Z
UID:7384-1791676800-1792022399@heathwilliams.org
SUMMARY:Mount Pisgah Baptist Church
DESCRIPTION:Heath Willaims
URL:https://heathwilliams.org/event/mount-pisgah-baptist-church-3/
LOCATION:Mt. Pisgah Baptist\, Athens\, AL\, United States
END:VEVENT
BEGIN:VEVENT
DTSTART;VALUE=DATE:20261017
DTEND;VALUE=DATE:20261018
DTSTAMP:20260424T002012
CREATED:20260317T235748Z
LAST-MODIFIED:20260317T235748Z
UID:7387-1792195200-1792281599@heathwilliams.org
SUMMARY:West End Baptist Church
DESCRIPTION:Heath Willaims
URL:https://heathwilliams.org/event/west-end-baptist-church/
LOCATION:NC
END:VEVENT
END:VCALENDAR