BEGIN:VCALENDAR
VERSION:2.0
PRODID:-//Heath Williams Ministries - ECPv6.15.20//NONSGML v1.0//EN
CALSCALE:GREGORIAN
METHOD:PUBLISH
X-ORIGINAL-URL:https://heathwilliams.org
X-WR-CALDESC:Events for Heath Williams Ministries
REFRESH-INTERVAL;VALUE=DURATION:PT1H
X-Robots-Tag:noindex
X-PUBLISHED-TTL:PT1H
BEGIN:VTIMEZONE
TZID:America/New_York
BEGIN:DAYLIGHT
TZOFFSETFROM:-0500
TZOFFSETTO:-0400
TZNAME:EDT
DTSTART:20250309T070000
END:DAYLIGHT
BEGIN:STANDARD
TZOFFSETFROM:-0400
TZOFFSETTO:-0500
TZNAME:EST
DTSTART:20251102T060000
END:STANDARD
BEGIN:DAYLIGHT
TZOFFSETFROM:-0500
TZOFFSETTO:-0400
TZNAME:EDT
DTSTART:20260308T070000
END:DAYLIGHT
BEGIN:STANDARD
TZOFFSETFROM:-0400
TZOFFSETTO:-0500
TZNAME:EST
DTSTART:20261101T060000
END:STANDARD
BEGIN:DAYLIGHT
TZOFFSETFROM:-0500
TZOFFSETTO:-0400
TZNAME:EDT
DTSTART:20270314T070000
END:DAYLIGHT
BEGIN:STANDARD
TZOFFSETFROM:-0400
TZOFFSETTO:-0500
TZNAME:EST
DTSTART:20271107T060000
END:STANDARD
END:VTIMEZONE
BEGIN:VEVENT
DTSTART;VALUE=DATE:20260823
DTEND;VALUE=DATE:20260824
DTSTAMP:20260423T230106
CREATED:20260317T234845Z
LAST-MODIFIED:20260317T234845Z
UID:7351-1787443200-1787529599@heathwilliams.org
SUMMARY:Stanleytown Amazing Grace Baptist Church
DESCRIPTION:Heath Willaims
URL:https://heathwilliams.org/event/stanleytown-amazing-grace-baptist-church-8/
LOCATION:Stanleytown Amazing Grace BC\, Stanleytown\, VA\, United States
END:VEVENT
BEGIN:VEVENT
DTSTART;VALUE=DATE:20260824
DTEND;VALUE=DATE:20260829
DTSTAMP:20260423T230106
CREATED:20260317T234909Z
LAST-MODIFIED:20260317T234909Z
UID:7354-1787529600-1787961599@heathwilliams.org
SUMMARY:Mount Victory Tent Meeting
DESCRIPTION:Heath Willaims
URL:https://heathwilliams.org/event/mount-victory-tent-meeting/
LOCATION:Mount Victory\, 507 Mill Timber Creek Road\, Newlnd\, NC\, 28657\, United States
END:VEVENT
BEGIN:VEVENT
DTSTART;VALUE=DATE:20260830
DTEND;VALUE=DATE:20260903
DTSTAMP:20260423T230106
CREATED:20260317T234937Z
LAST-MODIFIED:20260317T234937Z
UID:7357-1788048000-1788393599@heathwilliams.org
SUMMARY:Belmont Baptist Church
DESCRIPTION:Pastor Nathaniel Hobbs \nHeath Willaims
URL:https://heathwilliams.org/event/belmont-baptist-church-3/
LOCATION:NC
END:VEVENT
BEGIN:VEVENT
DTSTART;VALUE=DATE:20260906
DTEND;VALUE=DATE:20260907
DTSTAMP:20260423T230106
CREATED:20260317T235046Z
LAST-MODIFIED:20260317T235046Z
UID:7360-1788652800-1788739199@heathwilliams.org
SUMMARY:Emmanuel Baptist Church
DESCRIPTION:Heath Willaims
URL:https://heathwilliams.org/event/emmanuel-baptist-church/
LOCATION:NC
END:VEVENT
BEGIN:VEVENT
DTSTART;VALUE=DATE:20260907
DTEND;VALUE=DATE:20260910
DTSTAMP:20260423T230106
CREATED:20260317T235113Z
LAST-MODIFIED:20260317T235113Z
UID:7363-1788739200-1788998399@heathwilliams.org
SUMMARY:Yellow Creek Baptist Church
DESCRIPTION:Heath Willaims
URL:https://heathwilliams.org/event/yellow-creek-baptist-church/
LOCATION:NC
END:VEVENT
BEGIN:VEVENT
DTSTART;VALUE=DATE:20260913
DTEND;VALUE=DATE:20260914
DTSTAMP:20260423T230106
CREATED:20260317T235217Z
LAST-MODIFIED:20260317T235217Z
UID:7366-1789257600-1789343999@heathwilliams.org
SUMMARY:Freedom Baptist Church
DESCRIPTION:Athens\, TN \nHeath Willaims
URL:https://heathwilliams.org/event/freedom-baptist-church-5/
LOCATION:NC
END:VEVENT
BEGIN:VEVENT
DTSTART;VALUE=DATE:20260914
DTEND;VALUE=DATE:20260915
DTSTAMP:20260423T230106
CREATED:20260317T235247Z
LAST-MODIFIED:20260317T235247Z
UID:7369-1789344000-1789430399@heathwilliams.org
SUMMARY:Calvary Baptist Church
DESCRIPTION:Riceville\, TN \nHeath Willaims
URL:https://heathwilliams.org/event/calvary-baptist-church-4/
LOCATION:NC
END:VEVENT
BEGIN:VEVENT
DTSTART;VALUE=DATE:20260921
DTEND;VALUE=DATE:20260926
DTSTAMP:20260423T230106
CREATED:20260317T235322Z
LAST-MODIFIED:20260317T235322Z
UID:7372-1789948800-1790380799@heathwilliams.org
SUMMARY:Midwest Tent Meeting
DESCRIPTION:Pastor Randy Glenn \nHeath Willaims
URL:https://heathwilliams.org/event/midwest-tent-meeting-4/
LOCATION:Calvary Baptist Church – Crawfordsville\, 128 E 400 S\, Crawfordsville\, IN\, 47933\, United States
END:VEVENT
BEGIN:VEVENT
DTSTART;VALUE=DATE:20260927
DTEND;VALUE=DATE:20260928
DTSTAMP:20260423T230106
CREATED:20260317T235444Z
LAST-MODIFIED:20260317T235444Z
UID:7375-1790467200-1790553599@heathwilliams.org
SUMMARY:Lincoln Land Baptist Church
DESCRIPTION:Pastor Rod Mattoon \nSpringfield\, IL \n  \nHeath Willaims
URL:https://heathwilliams.org/event/lincoln-land-baptist-church-3/
LOCATION:NC
END:VEVENT
BEGIN:VEVENT
DTSTART;VALUE=DATE:20260928
DTEND;VALUE=DATE:20261001
DTSTAMP:20260423T230106
CREATED:20260317T235600Z
LAST-MODIFIED:20260317T235600Z
UID:7378-1790553600-1790812799@heathwilliams.org
SUMMARY:Caraway Baptist Church
DESCRIPTION:Pastor Freddie Meadows \nHeath Willaims
URL:https://heathwilliams.org/event/caraway-baptist-church-5/
LOCATION:NC
END:VEVENT
BEGIN:VEVENT
DTSTART;VALUE=DATE:20261004
DTEND;VALUE=DATE:20261008
DTSTAMP:20260423T230106
CREATED:20260317T235641Z
LAST-MODIFIED:20260317T235641Z
UID:7381-1791072000-1791417599@heathwilliams.org
SUMMARY:New Home Baptist Church
DESCRIPTION:Heath Willaims
URL:https://heathwilliams.org/event/new-home-baptist-church-4/
LOCATION:New Home Baptist Church\, Pisgah\, AL\, United States
END:VEVENT
BEGIN:VEVENT
DTSTART;VALUE=DATE:20261011
DTEND;VALUE=DATE:20261015
DTSTAMP:20260423T230106
CREATED:20260317T235724Z
LAST-MODIFIED:20260317T235724Z
UID:7384-1791676800-1792022399@heathwilliams.org
SUMMARY:Mount Pisgah Baptist Church
DESCRIPTION:Heath Willaims
URL:https://heathwilliams.org/event/mount-pisgah-baptist-church-3/
LOCATION:Mt. Pisgah Baptist\, Athens\, AL\, United States
END:VEVENT
BEGIN:VEVENT
DTSTART;VALUE=DATE:20261017
DTEND;VALUE=DATE:20261018
DTSTAMP:20260423T230106
CREATED:20260317T235748Z
LAST-MODIFIED:20260317T235748Z
UID:7387-1792195200-1792281599@heathwilliams.org
SUMMARY:West End Baptist Church
DESCRIPTION:Heath Willaims
URL:https://heathwilliams.org/event/west-end-baptist-church/
LOCATION:NC
END:VEVENT
END:VCALENDAR