BEGIN:VCALENDAR
VERSION:2.0
PRODID:-//Heath Williams Ministries - ECPv6.15.20//NONSGML v1.0//EN
CALSCALE:GREGORIAN
METHOD:PUBLISH
X-WR-CALNAME:Heath Williams Ministries
X-ORIGINAL-URL:https://heathwilliams.org
X-WR-CALDESC:Events for Heath Williams Ministries
REFRESH-INTERVAL;VALUE=DURATION:PT1H
X-Robots-Tag:noindex
X-PUBLISHED-TTL:PT1H
BEGIN:VTIMEZONE
TZID:America/New_York
BEGIN:DAYLIGHT
TZOFFSETFROM:-0500
TZOFFSETTO:-0400
TZNAME:EDT
DTSTART:20200308T070000
END:DAYLIGHT
BEGIN:STANDARD
TZOFFSETFROM:-0400
TZOFFSETTO:-0500
TZNAME:EST
DTSTART:20201101T060000
END:STANDARD
BEGIN:DAYLIGHT
TZOFFSETFROM:-0500
TZOFFSETTO:-0400
TZNAME:EDT
DTSTART:20210314T070000
END:DAYLIGHT
BEGIN:STANDARD
TZOFFSETFROM:-0400
TZOFFSETTO:-0500
TZNAME:EST
DTSTART:20211107T060000
END:STANDARD
BEGIN:DAYLIGHT
TZOFFSETFROM:-0500
TZOFFSETTO:-0400
TZNAME:EDT
DTSTART:20220313T070000
END:DAYLIGHT
BEGIN:STANDARD
TZOFFSETFROM:-0400
TZOFFSETTO:-0500
TZNAME:EST
DTSTART:20221106T060000
END:STANDARD
END:VTIMEZONE
BEGIN:VEVENT
DTSTART;VALUE=DATE:20211031
DTEND;VALUE=DATE:20211104
DTSTAMP:20260425T175801
CREATED:20210708T203350Z
LAST-MODIFIED:20210708T203350Z
UID:5088-1635638400-1635983999@heathwilliams.org
SUMMARY:Amazing Grace Baptist Church
DESCRIPTION:Sunday Services 11 AM & 6 PM; \nRevival Services Nightly at 7 PM; \nPastor: Howard Owens \nHeath Willaims
URL:https://heathwilliams.org/event/amazing-grace-baptist-church-8/
LOCATION:Amazing Grace Baptist Church\, 4530 NC-135 \, Stoneville\, NC\, 27048\, United States
END:VEVENT
BEGIN:VEVENT
DTSTART;VALUE=DATE:20211025
DTEND;VALUE=DATE:20211030
DTSTAMP:20260425T175801
CREATED:20210708T231037Z
LAST-MODIFIED:20210708T231037Z
UID:5132-1635120000-1635551999@heathwilliams.org
SUMMARY:Piedmont Baptist Church Prayer Retreat
DESCRIPTION:Heath Willaims
URL:https://heathwilliams.org/event/piedmont-baptist-church-prayer-retreat/
LOCATION:NC
END:VEVENT
BEGIN:VEVENT
DTSTART;VALUE=DATE:20211024
DTEND;VALUE=DATE:20211025
DTSTAMP:20260425T175801
CREATED:20210708T203137Z
LAST-MODIFIED:20210708T203137Z
UID:5085-1635033600-1635119999@heathwilliams.org
SUMMARY:Mile Creek Baptist Church
DESCRIPTION:Sunday Services at 11 AM & 6 PM; \nPastor: Kevin Kuykendall \nHeath Willaims
URL:https://heathwilliams.org/event/mile-creek-baptist-church-4/
LOCATION:Mile Creek Baptist Church\, Six Mile\, South Carolina
END:VEVENT
BEGIN:VEVENT
DTSTART;VALUE=DATE:20211017
DTEND;VALUE=DATE:20211021
DTSTAMP:20260425T175801
CREATED:20210708T203035Z
LAST-MODIFIED:20210708T203035Z
UID:5081-1634428800-1634774399@heathwilliams.org
SUMMARY:Old Time Baptist Church
DESCRIPTION:Sunday Services at 11 AM & 6 PM; \nRevival Services Nightly at 7 PM; \nPastor: Tommy Holder \nHeath Willaims
URL:https://heathwilliams.org/event/old-time-baptist-church-3/
LOCATION:Old Time Baptist Church\, 1786 Chesnut Grove Rd.\, King\, NC\, United States
END:VEVENT
BEGIN:VEVENT
DTSTART;VALUE=DATE:20211010
DTEND;VALUE=DATE:20211014
DTSTAMP:20260425T175801
CREATED:20210708T202833Z
LAST-MODIFIED:20210708T202833Z
UID:5077-1633824000-1634169599@heathwilliams.org
SUMMARY:Amity Hills Baptist Church
DESCRIPTION:Sunday Services at 11 AM & 6 PM; \nRevival Services Nightly at 7 PM; \nPastor: Barry Wall \nHeath Willaims
URL:https://heathwilliams.org/event/amity-hills-baptist-church-6/
LOCATION:Amity Hills Baptist Church\, 4140 US Highway 64 E\, Asheboro\, NC\, 27203\, United States
END:VEVENT
BEGIN:VEVENT
DTSTART;VALUE=DATE:20211003
DTEND;VALUE=DATE:20211008
DTSTAMP:20260425T175801
CREATED:20210708T202554Z
LAST-MODIFIED:20210708T202643Z
UID:5073-1633219200-1633651199@heathwilliams.org
SUMMARY:Southside Baptist Church
DESCRIPTION:Sunday Services at 11 AM & 6 PM; \nRevival Services Nightly at 7 PM; \nPastor: Shaun Thomas \n  \nHeath Willaims
URL:https://heathwilliams.org/event/southside-baptist-church-3/
LOCATION:Southside Baptist Church\, 2920 Browns Landing Road\, Palatka\, FL\, 32177\, United States
END:VEVENT
BEGIN:VEVENT
DTSTART;VALUE=DATE:20210927
DTEND;VALUE=DATE:20211001
DTSTAMP:20260425T175801
CREATED:20210629T225349Z
LAST-MODIFIED:20210930T175304Z
UID:5052-1632700800-1633046399@heathwilliams.org
SUMMARY:Midwest Tent Revival
DESCRIPTION:Nightly 7 PM \nPastor: Randy Glenn \nHeath Willaims
URL:https://heathwilliams.org/event/midwest-tent-revival-2/
LOCATION:NC
END:VEVENT
BEGIN:VEVENT
DTSTART;VALUE=DATE:20210919
DTEND;VALUE=DATE:20210920
DTSTAMP:20260425T175801
CREATED:20210629T224919Z
LAST-MODIFIED:20210629T224919Z
UID:5049-1632009600-1632095999@heathwilliams.org
SUMMARY:Victory Baptist Church
DESCRIPTION:Sunday Service 10 AM \nPastor: Von Ramsey \nHeath Willaims
URL:https://heathwilliams.org/event/victory-baptist-church-15/
LOCATION:Victory Baptist Church – Denver\, Denver\, NC\, United States
END:VEVENT
BEGIN:VEVENT
DTSTART;VALUE=DATE:20210916
DTEND;VALUE=DATE:20210917
DTSTAMP:20260425T175801
CREATED:20210411T220001Z
LAST-MODIFIED:20210411T220001Z
UID:5026-1631750400-1631836799@heathwilliams.org
SUMMARY:Central Baptist Temple Jubilee
DESCRIPTION:Service at 7pm \nPastor: Jason Dowdell \nHeath Willaims
URL:https://heathwilliams.org/event/central-baptist-temple-jubilee/
LOCATION:NC
END:VEVENT
BEGIN:VEVENT
DTSTART;VALUE=DATE:20210912
DTEND;VALUE=DATE:20210916
DTSTAMP:20260425T175801
CREATED:20210708T202308Z
LAST-MODIFIED:20210708T202308Z
UID:5069-1631404800-1631750399@heathwilliams.org
SUMMARY:Long Hill Baptist Church
DESCRIPTION:Sunday Services 11 AM & 6 PM; \nRevival Services Nightly 7 PM; \nPastor: Mark Forest \nHeath Willaims
URL:https://heathwilliams.org/event/long-hill-baptist-church/
LOCATION:Long Hill Baptist Church\, Candor\, NC\, United States
END:VEVENT
BEGIN:VEVENT
DTSTART;VALUE=DATE:20210908
DTEND;VALUE=DATE:20210909
DTSTAMP:20260425T175801
CREATED:20210411T215859Z
LAST-MODIFIED:20210411T215859Z
UID:5022-1631059200-1631145599@heathwilliams.org
SUMMARY:GumStand Baptist Church
DESCRIPTION:Service at 7pm \nHeath Willaims
URL:https://heathwilliams.org/event/gumstand-baptist-church/
LOCATION:Gumstand Baptist Church
END:VEVENT
BEGIN:VEVENT
DTSTART;VALUE=DATE:20210904
DTEND;VALUE=DATE:20210906
DTSTAMP:20260425T175801
CREATED:20210708T201944Z
LAST-MODIFIED:20210708T201944Z
UID:5065-1630713600-1630886399@heathwilliams.org
SUMMARY:Calvary Bible Church
DESCRIPTION:Youth Rally Saturday 5 PM; \nSunday Services 11 AM & 6 PM; Pastor: Mark Hill \nHeath Willaims
URL:https://heathwilliams.org/event/calvary-bible-church-2/
LOCATION:NC
END:VEVENT
BEGIN:VEVENT
DTSTART;VALUE=DATE:20210830
DTEND;VALUE=DATE:20210903
DTSTAMP:20260425T175801
CREATED:20210629T220330Z
LAST-MODIFIED:20210629T220330Z
UID:5045-1630281600-1630627199@heathwilliams.org
SUMMARY:Texas Tent Meeting
DESCRIPTION:Nightly 7 PM \nPastor: Shannon Crawford \nHeath Willaims
URL:https://heathwilliams.org/event/texas-tent-meeting/
LOCATION:Texas Tent Crusade\, 8880 US HWY\, Simms\, TX\, 75574\, United States
END:VEVENT
BEGIN:VEVENT
DTSTART;VALUE=DATE:20210829
DTEND;VALUE=DATE:20210830
DTSTAMP:20260425T175801
CREATED:20210629T220206Z
LAST-MODIFIED:20210629T220206Z
UID:5042-1630195200-1630281599@heathwilliams.org
SUMMARY:Floyd Missionary Baptist Church
DESCRIPTION:Sunday Service 10:30 AM \nPastor: Corey Engebretson \nHeath Willaims
URL:https://heathwilliams.org/event/floyd-missionary-baptist-church/
LOCATION:Floyd Missionary Baptist Church\, Eden\, NC\, United States
END:VEVENT
BEGIN:VEVENT
DTSTART;VALUE=DATE:20210823
DTEND;VALUE=DATE:20210828
DTSTAMP:20260425T175801
CREATED:20210205T224910Z
LAST-MODIFIED:20210205T224910Z
UID:4953-1629676800-1630108799@heathwilliams.org
SUMMARY:Victory Baptist Church Tent Meeting
DESCRIPTION:Services 7pm Nightly\nPastor: Ethan Greene \nHeath Willaims
URL:https://heathwilliams.org/event/victory-baptist-church-tent-meeting/
LOCATION:Victory Baptist Church – Newland\, Newland\, NC\, United States
END:VEVENT
BEGIN:VEVENT
DTSTART;VALUE=DATE:20210822
DTEND;VALUE=DATE:20210823
DTSTAMP:20260425T175801
CREATED:20210205T224756Z
LAST-MODIFIED:20210205T224756Z
UID:4949-1629590400-1629676799@heathwilliams.org
SUMMARY:Liberty Baptist Church
DESCRIPTION:Sunday Services: 11am & 6pm\nPastor: Ken Bowman  \nHeath Willaims
URL:https://heathwilliams.org/event/liberty-baptist-church/
LOCATION:Liberty Baptist Church\, Bowden\, GA\, United States
END:VEVENT
BEGIN:VEVENT
DTSTART;VALUE=DATE:20210808
DTEND;VALUE=DATE:20210812
DTSTAMP:20260425T175801
CREATED:20210205T224609Z
LAST-MODIFIED:20210205T224609Z
UID:4945-1628380800-1628726399@heathwilliams.org
SUMMARY:Blue Ridge View Baptist Church
DESCRIPTION:Sunday Services: 11am & 6pm\nRevival Services: 7pm Nightly\nPastor: Brian Haney \nHeath Willaims
URL:https://heathwilliams.org/event/blue-ridge-view-baptist-church/
LOCATION:Blue Ridge View Baptist Church\, pickens\, SC\, United States
END:VEVENT
BEGIN:VEVENT
DTSTART;VALUE=DATE:20210801
DTEND;VALUE=DATE:20210807
DTSTAMP:20260425T175801
CREATED:20210205T224425Z
LAST-MODIFIED:20210411T215359Z
UID:4942-1627776000-1628294399@heathwilliams.org
SUMMARY:Power Conference
DESCRIPTION:Sunday Service: 6pm\nWeek Services: 7pm Nightly\nPastor: Daniel Buchanan \nHeath Willaims
URL:https://heathwilliams.org/event/power-conference-3/
LOCATION:New Beginnings Baptist Church\, 4415 Calico Road\, Lenoir\, NC\, United States
END:VEVENT
BEGIN:VEVENT
DTSTART;VALUE=DATE:20210728
DTEND;VALUE=DATE:20210802
DTSTAMP:20260425T175801
CREATED:20210205T224257Z
LAST-MODIFIED:20210205T224257Z
UID:4939-1627430400-1627862399@heathwilliams.org
SUMMARY:Land of Sky Jubilee
DESCRIPTION:8am and 10:30am\nPastor: Winston Parrish \nHeath Willaims
URL:https://heathwilliams.org/event/land-of-sky-jubilee/
LOCATION:Trinity Baptist Church Asheville\, Asheville\, NC\, United States
END:VEVENT
BEGIN:VEVENT
DTSTART;VALUE=DATE:20210718
DTEND;VALUE=DATE:20210723
DTSTAMP:20260425T175801
CREATED:20210205T223700Z
LAST-MODIFIED:20210205T223700Z
UID:4932-1626566400-1626998399@heathwilliams.org
SUMMARY:Arise Youth Conference
DESCRIPTION:Youth Conference\nPigeon Forge\, TN \nHeath Willaims
URL:https://heathwilliams.org/event/arise-youth-conference-3/
LOCATION:NC
END:VEVENT
BEGIN:VEVENT
DTSTART;VALUE=DATE:20210715
DTEND;VALUE=DATE:20210716
DTSTAMP:20260425T175801
CREATED:20210205T223541Z
LAST-MODIFIED:20210205T223541Z
UID:4929-1626307200-1626393599@heathwilliams.org
SUMMARY:Piedmont Baptist Church Youth Camp
DESCRIPTION:Youth Camp\nMarietta SC\nPastor: Mike Edwards \nHeath Willaims
URL:https://heathwilliams.org/event/piedmont-baptist-church-youth-camp/
LOCATION:NC
END:VEVENT
BEGIN:VEVENT
DTSTART;VALUE=DATE:20210627
DTEND;VALUE=DATE:20210628
DTSTAMP:20260425T175801
CREATED:20210205T223353Z
LAST-MODIFIED:20210205T223353Z
UID:4923-1624752000-1624838399@heathwilliams.org
SUMMARY:Beulah Baptist Church
DESCRIPTION:Sunday Services: 11am & 6pm\nPastor: Neal Jackson \nHeath Willaims
URL:https://heathwilliams.org/event/beulah-baptist-church-4/
LOCATION:Beulah Baptist Church\, Bennett\, North Carolina
END:VEVENT
BEGIN:VEVENT
DTSTART;VALUE=DATE:20210620
DTEND;VALUE=DATE:20210626
DTSTAMP:20260425T175801
CREATED:20210629T215251Z
LAST-MODIFIED:20210629T215251Z
UID:5034-1624147200-1624665599@heathwilliams.org
SUMMARY:Oak Glen Baptist Church
DESCRIPTION:Services Sunday 11am & 6pm \nRevival Services nightly at 7pm \nPastor Danny Sykes \nHeath Willaims
URL:https://heathwilliams.org/event/oak-glen-baptist-church-2/
LOCATION:Oak Glenn Baptist\, Yuma\, VA\, United States
END:VEVENT
BEGIN:VEVENT
DTSTART;VALUE=DATE:20210614
DTEND;VALUE=DATE:20210619
DTSTAMP:20260425T175801
CREATED:20210205T223912Z
LAST-MODIFIED:20210205T223935Z
UID:4935-1623628800-1624060799@heathwilliams.org
SUMMARY:Tent Meeting - Kerwin Baptist Church
DESCRIPTION:CTM Tent Crusade\nPastor: Daniel Hawtree\nNightly at 7pm \nHeath Willaims
URL:https://heathwilliams.org/event/tent-meeting-kerwin-baptist-church-2/
LOCATION:Kerwin Baptist Church\, 4520 Old Hollow Road\, Kernersville\, NC\, 27284\, United States
END:VEVENT
BEGIN:VEVENT
DTSTART;VALUE=DATE:20210607
DTEND;VALUE=DATE:20210612
DTSTAMP:20260425T175801
CREATED:20210205T223241Z
LAST-MODIFIED:20210205T223241Z
UID:4919-1623024000-1623455999@heathwilliams.org
SUMMARY:Tent Meeting - Kerwin Baptist Church
DESCRIPTION:CTM Tent Crusade\nPastor: Daniel Hawtree\n7pm Nightly \nHeath Willaims
URL:https://heathwilliams.org/event/tent-meeting-kerwin-baptist-church/
LOCATION:Kerwin Baptist Church\, 4520 Old Hollow Road\, Kernersville\, NC\, 27284\, United States
END:VEVENT
BEGIN:VEVENT
DTSTART;VALUE=DATE:20210516
DTEND;VALUE=DATE:20210520
DTSTAMP:20260425T175801
CREATED:20210205T223051Z
LAST-MODIFIED:20210205T223051Z
UID:4916-1621123200-1621468799@heathwilliams.org
SUMMARY:Greatest Mission Baptist Church
DESCRIPTION:Sunday Services: 11am & 6pm\nRevival Services: 7pm Nightly \nPastor: Steve Parrish \nHeath Willaims
URL:https://heathwilliams.org/event/greatest-mission-baptist-church-3/
LOCATION:Greatest Mission Baptist Church\, Pontotoc\, MS\, United States
END:VEVENT
BEGIN:VEVENT
DTSTART;VALUE=DATE:20210505
DTEND;VALUE=DATE:20210506
DTSTAMP:20260425T175801
CREATED:20210411T214646Z
LAST-MODIFIED:20210411T214810Z
UID:5012-1620172800-1620259199@heathwilliams.org
SUMMARY:Victory Camp Meeting
DESCRIPTION:Service at 7pm \nPastor: CT Townsend \nHeath Willaims
URL:https://heathwilliams.org/event/victory-camp-meeting/
LOCATION:Victory Baptist Church\, North Augusta\, SC\, United States
END:VEVENT
BEGIN:VEVENT
DTSTART;VALUE=DATE:20210502
DTEND;VALUE=DATE:20210505
DTSTAMP:20260425T175801
CREATED:20210205T222936Z
LAST-MODIFIED:20210411T213936Z
UID:4912-1619913600-1620172799@heathwilliams.org
SUMMARY:Christ Gospel Baptist Church
DESCRIPTION:Sunday Services: 11am & 6pm\nRevival Services: 7pm Nightly \nPastor: Tim Huffman \nHeath Willaims
URL:https://heathwilliams.org/event/christ-gospel-baptist-church/
LOCATION:Christ Gospel Baptist Church\, High Point\, NC\, United States
END:VEVENT
BEGIN:VEVENT
DTSTART;VALUE=DATE:20210425
DTEND;VALUE=DATE:20210426
DTSTAMP:20260425T175801
CREATED:20210205T222437Z
LAST-MODIFIED:20210205T222437Z
UID:4905-1619308800-1619395199@heathwilliams.org
SUMMARY:Shinning Light Baptist Church
DESCRIPTION:Sunday Services\nPastor: Gary Blalock  \nHeath Willaims
URL:https://heathwilliams.org/event/shinning-light-baptist-church/
LOCATION:Shinning Light Baptist Church\, Greensboro\, North Carolina\, United States
END:VEVENT
BEGIN:VEVENT
DTSTART;VALUE=DATE:20210423
DTEND;VALUE=DATE:20210424
DTSTAMP:20260425T175801
CREATED:20210205T222243Z
LAST-MODIFIED:20210205T222243Z
UID:4902-1619136000-1619136000@heathwilliams.org
SUMMARY:Bible Baptist Tabernacle
DESCRIPTION:Revival Service: 7pm\nPastor: Josh Mickle \nHeath Willaims
URL:https://heathwilliams.org/event/bible-baptist-tabernacle-5/
LOCATION:Bible Baptist Tabernacle\, 8092 Hurdle Mills Rd \, Hurdle Mills\, NC\, 27541\, United States
END:VEVENT
END:VCALENDAR