BEGIN:VCALENDAR
VERSION:2.0
PRODID:-//Heath Williams Ministries - ECPv6.15.20//NONSGML v1.0//EN
CALSCALE:GREGORIAN
METHOD:PUBLISH
X-ORIGINAL-URL:https://heathwilliams.org
X-WR-CALDESC:Events for Heath Williams Ministries
REFRESH-INTERVAL;VALUE=DURATION:PT1H
X-Robots-Tag:noindex
X-PUBLISHED-TTL:PT1H
BEGIN:VTIMEZONE
TZID:America/New_York
BEGIN:DAYLIGHT
TZOFFSETFROM:-0500
TZOFFSETTO:-0400
TZNAME:EDT
DTSTART:20210314T070000
END:DAYLIGHT
BEGIN:STANDARD
TZOFFSETFROM:-0400
TZOFFSETTO:-0500
TZNAME:EST
DTSTART:20211107T060000
END:STANDARD
BEGIN:DAYLIGHT
TZOFFSETFROM:-0500
TZOFFSETTO:-0400
TZNAME:EDT
DTSTART:20220313T070000
END:DAYLIGHT
BEGIN:STANDARD
TZOFFSETFROM:-0400
TZOFFSETTO:-0500
TZNAME:EST
DTSTART:20221106T060000
END:STANDARD
BEGIN:DAYLIGHT
TZOFFSETFROM:-0500
TZOFFSETTO:-0400
TZNAME:EDT
DTSTART:20230312T070000
END:DAYLIGHT
BEGIN:STANDARD
TZOFFSETFROM:-0400
TZOFFSETTO:-0500
TZNAME:EST
DTSTART:20231105T060000
END:STANDARD
END:VTIMEZONE
BEGIN:VEVENT
DTSTART;VALUE=DATE:20220801
DTEND;VALUE=DATE:20220806
DTSTAMP:20260425T110916
CREATED:20220311T145229Z
LAST-MODIFIED:20220311T145229Z
UID:5447-1659312000-1659743999@heathwilliams.org
SUMMARY:Camp Joshua
DESCRIPTION:Heath Willaims
URL:https://heathwilliams.org/event/camp-joshua-2/
LOCATION:New Beginnings Baptist Church\, 4415 Calico Road\, Lenoir\, NC\, United States
END:VEVENT
BEGIN:VEVENT
DTSTART;VALUE=DATE:20220727
DTEND;VALUE=DATE:20220801
DTSTAMP:20260425T110916
CREATED:20220311T144954Z
LAST-MODIFIED:20220311T144954Z
UID:5444-1658880000-1659311999@heathwilliams.org
SUMMARY:Land of the Sky Jubilee
DESCRIPTION:Heath Willaims
URL:https://heathwilliams.org/event/land-of-the-sky-jubilee/
LOCATION:Trinity Baptist Church Asheville\, Asheville\, NC\, United States
END:VEVENT
BEGIN:VEVENT
DTSTART;VALUE=DATE:20220725
DTEND;VALUE=DATE:20220728
DTSTAMP:20260425T110916
CREATED:20220714T143508Z
LAST-MODIFIED:20220714T143508Z
UID:5483-1658707200-1658966399@heathwilliams.org
SUMMARY:West End Baptist Church Youth Camp
DESCRIPTION:Pastor: Chad Nall \nHeath Willaims
URL:https://heathwilliams.org/event/west-end-baptist-church-youth-camp/
LOCATION:West End\, West End\, NC\, United States
END:VEVENT
BEGIN:VEVENT
DTSTART;VALUE=DATE:20220724
DTEND;VALUE=DATE:20220725
DTSTAMP:20260425T110916
CREATED:20220714T143347Z
LAST-MODIFIED:20220714T143347Z
UID:5479-1658620800-1658707199@heathwilliams.org
SUMMARY:Temple Baptist Church
DESCRIPTION:Pastor: Charles Lawson \nHeath Willaims
URL:https://heathwilliams.org/event/temple-baptist-church/
LOCATION:Temple Baptist Church\, Knoxville\, TN\, United States
END:VEVENT
BEGIN:VEVENT
DTSTART;VALUE=DATE:20220718
DTEND;VALUE=DATE:20220723
DTSTAMP:20260425T110916
CREATED:20220311T144912Z
LAST-MODIFIED:20220311T144912Z
UID:5441-1658102400-1658534399@heathwilliams.org
SUMMARY:Arise Youth Conference
DESCRIPTION:Heath Willaims
URL:https://heathwilliams.org/event/arise-youth-conference-4/
LOCATION:NC
END:VEVENT
BEGIN:VEVENT
DTSTART;VALUE=DATE:20220711
DTEND;VALUE=DATE:20220716
DTSTAMP:20260425T110916
CREATED:20220311T144842Z
LAST-MODIFIED:20220311T144842Z
UID:5438-1657497600-1657929599@heathwilliams.org
SUMMARY:East Texas Camp Meeting
DESCRIPTION:Heath Willaims
URL:https://heathwilliams.org/event/east-texas-camp-meeting/
LOCATION:NC
END:VEVENT
BEGIN:VEVENT
DTSTART;VALUE=DATE:20220629
DTEND;VALUE=DATE:20220702
DTSTAMP:20260425T110916
CREATED:20220512T131012Z
LAST-MODIFIED:20220512T131012Z
UID:5460-1656460800-1656719999@heathwilliams.org
SUMMARY:Alvarado Bible Church
DESCRIPTION:Pastor: Jacob Doss \nHeath Willaims
URL:https://heathwilliams.org/event/alvarado-bible-church/
LOCATION:Alvarado Bible Church\, 21206 Alvarado Rd\, Abingdon\, VA\, 24211\, United States
END:VEVENT
BEGIN:VEVENT
DTSTART;VALUE=DATE:20220626
DTEND;VALUE=DATE:20220627
DTSTAMP:20260425T110916
CREATED:20220311T144652Z
LAST-MODIFIED:20220311T144652Z
UID:5435-1656201600-1656287999@heathwilliams.org
SUMMARY:Community Baptist Church
DESCRIPTION:Sunday 11 AM & 6 PM; \nPastor: Mark Agan \nHeath Willaims
URL:https://heathwilliams.org/event/community-baptist-church-5/
LOCATION:Community Baptist Church – Siler City\, 2575 Hamp Stone Rd.\, Siler City\, NC\, 27344\, United States
END:VEVENT
BEGIN:VEVENT
DTSTART;VALUE=DATE:20220612
DTEND;VALUE=DATE:20220613
DTSTAMP:20260425T110916
CREATED:20220311T144241Z
LAST-MODIFIED:20220311T144241Z
UID:5432-1654992000-1655078399@heathwilliams.org
SUMMARY:Floyd Missionary Baptist Church
DESCRIPTION:Sunday 11 AM \nPastor: Corey Engebretson \nHeath Willaims
URL:https://heathwilliams.org/event/floyd-missionary-baptist-church-2/
LOCATION:Floyd Missionary Baptist Church\, Eden\, NC\, United States
END:VEVENT
BEGIN:VEVENT
DTSTART;VALUE=DATE:20220522
DTEND;VALUE=DATE:20220526
DTSTAMP:20260425T110916
CREATED:20220112T220645Z
LAST-MODIFIED:20220112T220645Z
UID:5412-1653177600-1653523199@heathwilliams.org
SUMMARY:Fellowship Baptist Church
DESCRIPTION:Sunday Services: 10 AM & 5 PM\nRevival Services: 7 PM\nPastor: Tim Brown \nHeath Willaims
URL:https://heathwilliams.org/event/fellowship-baptist-church-3/
LOCATION:Fellowship Baptist Church\, Canton\, OH\, United States
END:VEVENT
BEGIN:VEVENT
DTSTART;VALUE=DATE:20220517
DTEND;VALUE=DATE:20220518
DTSTAMP:20260425T110916
CREATED:20220112T220422Z
LAST-MODIFIED:20220112T220422Z
UID:5409-1652745600-1652831999@heathwilliams.org
SUMMARY:Mile Creek Baptist Church
DESCRIPTION:Service 7 PM\nPastor: Kevin Kuykendall \nHeath Willaims
URL:https://heathwilliams.org/event/mile-creek-baptist-church-5/
LOCATION:Mile Creek Baptist Church\, Six Mile\, South Carolina
END:VEVENT
BEGIN:VEVENT
DTSTART;VALUE=DATE:20220501
DTEND;VALUE=DATE:20220505
DTSTAMP:20260425T110916
CREATED:20220112T220204Z
LAST-MODIFIED:20220112T220204Z
UID:5406-1651363200-1651708799@heathwilliams.org
SUMMARY:Greatest Mission Baptist Church
DESCRIPTION:Sunday Services: 11 AM & 6 PM\nNightly: 7 PM\nPastor: Steve Parrish \nHeath Willaims
URL:https://heathwilliams.org/event/greatest-mission-baptist-church-4/
LOCATION:Greatest Mission Baptist Church\, Pontotoc\, MS\, United States
END:VEVENT
BEGIN:VEVENT
DTSTART;VALUE=DATE:20220425
DTEND;VALUE=DATE:20220428
DTSTAMP:20260425T110916
CREATED:20220112T215732Z
LAST-MODIFIED:20220112T215732Z
UID:5402-1650844800-1651103999@heathwilliams.org
SUMMARY:Providence Road Jubilee
DESCRIPTION:Nightly 7 PM\nPastor: Lee Mcneill \nHeath Willaims
URL:https://heathwilliams.org/event/providence-road-jubilee/
LOCATION:Providence Road\, Maiden\, NC\, United States
END:VEVENT
BEGIN:VEVENT
DTSTART;VALUE=DATE:20220424
DTEND;VALUE=DATE:20220425
DTSTAMP:20260425T110916
CREATED:20220112T215357Z
LAST-MODIFIED:20220112T215357Z
UID:5399-1650758400-1650844799@heathwilliams.org
SUMMARY:Mill Creek Baptist Church
DESCRIPTION:Sunday Services: 11 AM & 6 PM \nHeath Willaims
URL:https://heathwilliams.org/event/mill-creek-baptist-church/
LOCATION:NC
END:VEVENT
BEGIN:VEVENT
DTSTART;VALUE=DATE:20220403
DTEND;VALUE=DATE:20220407
DTSTAMP:20260425T110916
CREATED:20220112T214500Z
LAST-MODIFIED:20220112T214500Z
UID:5392-1648944000-1649289599@heathwilliams.org
SUMMARY:Mt Pisgah Baptist Church
DESCRIPTION:Sunday Services: 11 AM & 6 PM\nRevival Services: 7 PM\nPastor: Johnathan Dumas \nHeath Willaims
URL:https://heathwilliams.org/event/mt-pisgah-baptist-church-2/
LOCATION:Mt. Pisgah Baptist\, Athens\, AL\, United States
END:VEVENT
BEGIN:VEVENT
DTSTART;VALUE=DATE:20220327
DTEND;VALUE=DATE:20220328
DTSTAMP:20260425T110916
CREATED:20220112T214028Z
LAST-MODIFIED:20220112T214028Z
UID:5388-1648339200-1648425599@heathwilliams.org
SUMMARY:Smyrna Baptist Church
DESCRIPTION:Sunday Services: 11 AM\nPastor: Josh Greene \nHeath Willaims
URL:https://heathwilliams.org/event/smyrna-baptist-church/
LOCATION:Smyrna Baptist Church\, Starke\, FL\, United States
END:VEVENT
BEGIN:VEVENT
DTSTART;VALUE=DATE:20220321
DTEND;VALUE=DATE:20220324
DTSTAMP:20260425T110916
CREATED:20220112T213605Z
LAST-MODIFIED:20220112T213605Z
UID:5385-1647820800-1648079999@heathwilliams.org
SUMMARY:Wheeler Grove Baptist Church
DESCRIPTION:Revival Services: 7 PM\nPastor: Josh Westmoreland \nHeath Willaims
URL:https://heathwilliams.org/event/wheeler-grove-baptist-church-2/
LOCATION:Wheeler Grove Baptist\, Corinth\, MS\, United States
END:VEVENT
BEGIN:VEVENT
DTSTART;VALUE=DATE:20220320
DTEND;VALUE=DATE:20220321
DTSTAMP:20260425T110916
CREATED:20220112T213434Z
LAST-MODIFIED:20220112T213434Z
UID:5382-1647734400-1647820799@heathwilliams.org
SUMMARY:Piedmont Baptist Church
DESCRIPTION:Sunday Services: 11 AM & 6 PM\nPastor: Mike Edwards \nHeath Willaims
URL:https://heathwilliams.org/event/piedmont-baptist-church-8/
LOCATION:Piedmont Baptist Church\, 5870 Wright Rd\, Kannapolis\, NC\, 28081\, United States
END:VEVENT
BEGIN:VEVENT
DTSTART;VALUE=DATE:20220314
DTEND;VALUE=DATE:20220317
DTSTAMP:20260425T110916
CREATED:20220112T213313Z
LAST-MODIFIED:20220112T213313Z
UID:5379-1647216000-1647475199@heathwilliams.org
SUMMARY:Camp Zion
DESCRIPTION:Pastor: Earl Farley \nHeath Willaims
URL:https://heathwilliams.org/event/camp-zion-4/
LOCATION:Camp Zion\, 1718 Ms-178\, Myrtle\, MS\, United States
END:VEVENT
BEGIN:VEVENT
DTSTART;VALUE=DATE:20220313
DTEND;VALUE=DATE:20220314
DTSTAMP:20260425T110916
CREATED:20220112T213230Z
LAST-MODIFIED:20220112T213230Z
UID:5375-1647129600-1647215999@heathwilliams.org
SUMMARY:Unity Baptist Church
DESCRIPTION:Sunday Services: 11 AM & 6 PM\nPastor: Ronnie Barefield \nHeath Willaims
URL:https://heathwilliams.org/event/unity-baptist-church/
LOCATION:Unity Baptist Church\, Ripley\, MS\, United States
END:VEVENT
BEGIN:VEVENT
DTSTART;VALUE=DATE:20220306
DTEND;VALUE=DATE:20220311
DTSTAMP:20260425T110916
CREATED:20220112T205432Z
LAST-MODIFIED:20220112T205432Z
UID:5372-1646524800-1646956799@heathwilliams.org
SUMMARY:Freeman Street Baptist Church
DESCRIPTION:Sunday Services: 11 AM & 6 PM\nRevival Services: 7 PM\nPastor: Brandon Harrison \nHeath Willaims
URL:https://heathwilliams.org/event/freeman-street-baptist-church-2/
LOCATION:NC
END:VEVENT
BEGIN:VEVENT
DTSTART;VALUE=DATE:20220228
DTEND;VALUE=DATE:20220301
DTSTAMP:20260425T110916
CREATED:20220112T205316Z
LAST-MODIFIED:20220112T205316Z
UID:5369-1646006400-1646092799@heathwilliams.org
SUMMARY:Victory Baptist Church
DESCRIPTION:Monday Night: 7 PM\nPastor: Von Ramsey \nHeath Willaims
URL:https://heathwilliams.org/event/victory-baptist-church-16/
LOCATION:Victory Baptist Church – Denver\, Denver\, NC\, United States
END:VEVENT
BEGIN:VEVENT
DTSTART;VALUE=DATE:20220227
DTEND;VALUE=DATE:20220228
DTSTAMP:20260425T110916
CREATED:20220112T205211Z
LAST-MODIFIED:20220112T205211Z
UID:5366-1645920000-1646006399@heathwilliams.org
SUMMARY:Stanleytown Amazing Grace Baptist Church
DESCRIPTION:Sunday Services: 11 AM & 6 PM\nPastor: Greg Hodges \nHeath Willaims
URL:https://heathwilliams.org/event/stanleytown-amazing-grace-baptist-church-3/
LOCATION:Stanleytown Amazing Grace BC\, Stanleytown\, VA\, United States
END:VEVENT
BEGIN:VEVENT
DTSTART;VALUE=DATE:20220222
DTEND;VALUE=DATE:20220226
DTSTAMP:20260425T110916
CREATED:20210930T175950Z
LAST-MODIFIED:20210930T175950Z
UID:5236-1645488000-1645833599@heathwilliams.org
SUMMARY:Oasis Leadership Conference
DESCRIPTION:Heath Willaims
URL:https://heathwilliams.org/event/oasis-leadership-conference/
LOCATION:Church Street Baptist Church\, 3113 N Church Street \, Greensboro \, 27405\, United States
END:VEVENT
BEGIN:VEVENT
DTSTART;VALUE=DATE:20220220
DTEND;VALUE=DATE:20220221
DTSTAMP:20260425T110916
CREATED:20220112T190124Z
LAST-MODIFIED:20220112T190124Z
UID:5362-1645315200-1645401599@heathwilliams.org
SUMMARY:New Grace Baptist Church
DESCRIPTION:Sunday Services: 11 AM & 6 PM \nHeath Willaims
URL:https://heathwilliams.org/event/new-grace-baptist-church/
LOCATION:NC
END:VEVENT
BEGIN:VEVENT
DTSTART;VALUE=DATE:20220213
DTEND;VALUE=DATE:20220214
DTSTAMP:20260425T110916
CREATED:20210930T175845Z
LAST-MODIFIED:20210930T175845Z
UID:5232-1644710400-1644796799@heathwilliams.org
SUMMARY:Piney Grove Baptist Church
DESCRIPTION:Sunday Services: 11 AM & 6 PM \nPastor: Brent Dula \nHeath Willaims
URL:https://heathwilliams.org/event/piney-grove-baptist-church-3/
LOCATION:Piney Grove Baptist Church\, 2331 Piney Grove\, Lenoir\, NC\, United States
END:VEVENT
BEGIN:VEVENT
DTSTART;VALUE=DATE:20220207
DTEND;VALUE=DATE:20220212
DTSTAMP:20260425T110916
CREATED:20220112T185926Z
LAST-MODIFIED:20220112T185926Z
UID:5359-1644192000-1644623999@heathwilliams.org
SUMMARY:Myrtle Work Trip
DESCRIPTION:Heath Willaims
URL:https://heathwilliams.org/event/myrtle-work-trip/
LOCATION:NC
END:VEVENT
BEGIN:VEVENT
DTSTART;VALUE=DATE:20220206
DTEND;VALUE=DATE:20220207
DTSTAMP:20260425T110916
CREATED:20210930T175608Z
LAST-MODIFIED:20210930T175608Z
UID:5229-1644105600-1644191999@heathwilliams.org
SUMMARY:Beulah Baptist Church
DESCRIPTION:Sunday Services: 11 AM & 6 PM \nPastor: Neal Jackson \nHeath Willaims
URL:https://heathwilliams.org/event/beulah-baptist-church-5/
LOCATION:Beulah Baptist Church\, Bennett\, North Carolina
END:VEVENT
BEGIN:VEVENT
DTSTART;VALUE=DATE:20220130
DTEND;VALUE=DATE:20220131
DTSTAMP:20260425T110916
CREATED:20220112T185823Z
LAST-MODIFIED:20220112T185823Z
UID:5356-1643500800-1643587199@heathwilliams.org
SUMMARY:Open Door Baptist Church
DESCRIPTION:Sunday Services: 11 AM & 6 PM\nPastor: Mike Leonard \nHeath Willaims
URL:https://heathwilliams.org/event/open-door-baptist-church-5/
LOCATION:Open Door BC Bristol\, Bristol\, VA\, United States
END:VEVENT
BEGIN:VEVENT
DTSTART;VALUE=DATE:20220124
DTEND;VALUE=DATE:20220129
DTSTAMP:20260425T110916
CREATED:20220112T185641Z
LAST-MODIFIED:20220112T185641Z
UID:5353-1642982400-1643414399@heathwilliams.org
SUMMARY:Prayer Trip
DESCRIPTION:Heath Willaims
URL:https://heathwilliams.org/event/prayer-trip/
LOCATION:NC
END:VEVENT
END:VCALENDAR