BEGIN:VCALENDAR
VERSION:2.0
PRODID:-//Heath Williams Ministries - ECPv6.15.20//NONSGML v1.0//EN
CALSCALE:GREGORIAN
METHOD:PUBLISH
X-ORIGINAL-URL:https://heathwilliams.org
X-WR-CALDESC:Events for Heath Williams Ministries
REFRESH-INTERVAL;VALUE=DURATION:PT1H
X-Robots-Tag:noindex
X-PUBLISHED-TTL:PT1H
BEGIN:VTIMEZONE
TZID:America/New_York
BEGIN:DAYLIGHT
TZOFFSETFROM:-0500
TZOFFSETTO:-0400
TZNAME:EDT
DTSTART:20240310T070000
END:DAYLIGHT
BEGIN:STANDARD
TZOFFSETFROM:-0400
TZOFFSETTO:-0500
TZNAME:EST
DTSTART:20241103T060000
END:STANDARD
BEGIN:DAYLIGHT
TZOFFSETFROM:-0500
TZOFFSETTO:-0400
TZNAME:EDT
DTSTART:20250309T070000
END:DAYLIGHT
BEGIN:STANDARD
TZOFFSETFROM:-0400
TZOFFSETTO:-0500
TZNAME:EST
DTSTART:20251102T060000
END:STANDARD
BEGIN:DAYLIGHT
TZOFFSETFROM:-0500
TZOFFSETTO:-0400
TZNAME:EDT
DTSTART:20260308T070000
END:DAYLIGHT
BEGIN:STANDARD
TZOFFSETFROM:-0400
TZOFFSETTO:-0500
TZNAME:EST
DTSTART:20261101T060000
END:STANDARD
BEGIN:DAYLIGHT
TZOFFSETFROM:-0500
TZOFFSETTO:-0400
TZNAME:EDT
DTSTART:20270314T070000
END:DAYLIGHT
BEGIN:STANDARD
TZOFFSETFROM:-0400
TZOFFSETTO:-0500
TZNAME:EST
DTSTART:20271107T060000
END:STANDARD
END:VTIMEZONE
BEGIN:VEVENT
DTSTART;VALUE=DATE:20260308
DTEND;VALUE=DATE:20260309
DTSTAMP:20260423T231439
CREATED:20260317T231705Z
LAST-MODIFIED:20260317T231705Z
UID:7251-1772928000-1773014399@heathwilliams.org
SUMMARY:Freedom Baptist Church
DESCRIPTION:Atkins\, VA \nSunday AM \nHeath Willaims
URL:https://heathwilliams.org/event/freedom-baptist-church-4/
END:VEVENT
BEGIN:VEVENT
DTSTART;VALUE=DATE:20260302
DTEND;VALUE=DATE:20260305
DTSTAMP:20260423T231439
CREATED:20260317T231613Z
LAST-MODIFIED:20260317T231613Z
UID:7248-1772409600-1772668799@heathwilliams.org
SUMMARY:Redeemed Baptist Church
DESCRIPTION:Pastor Aaron Calvert \nCommerce\, GA \nNightly Services \nHeath Willaims
URL:https://heathwilliams.org/event/redeemed-baptist-church/
END:VEVENT
BEGIN:VEVENT
DTSTART;VALUE=DATE:20260301
DTEND;VALUE=DATE:20260302
DTSTAMP:20260423T231439
CREATED:20260317T231526Z
LAST-MODIFIED:20260317T231526Z
UID:7245-1772323200-1772409599@heathwilliams.org
SUMMARY:Crossroads Baptist Church
DESCRIPTION:Pastor Kenny Kuykendal \nSunday AM \nHeath Willaims
URL:https://heathwilliams.org/event/crossroads-baptist-church-9/
LOCATION:Crossroads Baptist Church\, Prospect Church Road\, Lawrenceville\, GA\, United States
END:VEVENT
BEGIN:VEVENT
DTSTART;VALUE=DATE:20260222
DTEND;VALUE=DATE:20260223
DTSTAMP:20260423T231439
CREATED:20260317T231430Z
LAST-MODIFIED:20260317T231430Z
UID:7242-1771718400-1771804799@heathwilliams.org
SUMMARY:Victory Baptist Church
DESCRIPTION:Pastor Von Ramsey \nSunday AM \nHeath Willaims
URL:https://heathwilliams.org/event/victory-baptist-church-25/
LOCATION:Victory Baptist Church – Denver\, Denver\, NC\, United States
END:VEVENT
BEGIN:VEVENT
DTSTART;VALUE=DATE:20260218
DTEND;VALUE=DATE:20260222
DTSTAMP:20260423T231439
CREATED:20260317T231345Z
LAST-MODIFIED:20260317T231345Z
UID:7239-1771372800-1771718399@heathwilliams.org
SUMMARY:Oasis Leadership Conference
DESCRIPTION:Heath Willaims
URL:https://heathwilliams.org/event/oasis-leadership-conference-4/
END:VEVENT
BEGIN:VEVENT
DTSTART;VALUE=DATE:20260215
DTEND;VALUE=DATE:20260216
DTSTAMP:20260423T231439
CREATED:20260317T231318Z
LAST-MODIFIED:20260317T231318Z
UID:7236-1771113600-1771199999@heathwilliams.org
SUMMARY:Piney Grove Baptist Church
DESCRIPTION:Sunday AM \nHeath Willaims
URL:https://heathwilliams.org/event/piney-grove-baptist-church-6/
LOCATION:Piney Grove Baptist Church\, 2331 Piney Grove\, Lenoir\, NC\, United States
END:VEVENT
BEGIN:VEVENT
DTSTART;VALUE=DATE:20260209
DTEND;VALUE=DATE:20260212
DTSTAMP:20260423T231439
CREATED:20260317T231238Z
LAST-MODIFIED:20260317T231238Z
UID:7232-1770595200-1770854399@heathwilliams.org
SUMMARY:Pleasant View Missionary Baptist Church
DESCRIPTION:Holly Pond\, Alabama \nHeath Willaims
URL:https://heathwilliams.org/event/pleasant-view-missionary-baptist-church/
END:VEVENT
BEGIN:VEVENT
DTSTART;VALUE=DATE:20260208
DTEND;VALUE=DATE:20260209
DTSTAMP:20260423T231439
CREATED:20260317T231144Z
LAST-MODIFIED:20260317T231144Z
UID:7229-1770508800-1770595199@heathwilliams.org
SUMMARY:Harvest Baptist Church
DESCRIPTION:Pastor Joe Arthur \nJonesboro\, GA \nSunday AM & PM \nHeath Willaims
URL:https://heathwilliams.org/event/harvest-baptist-church-2/
END:VEVENT
BEGIN:VEVENT
DTSTART;VALUE=DATE:20260202
DTEND;VALUE=DATE:20260205
DTSTAMP:20260423T231439
CREATED:20260317T231018Z
LAST-MODIFIED:20260317T231018Z
UID:7223-1769990400-1770249599@heathwilliams.org
SUMMARY:Dunns Grove Baptist Church
DESCRIPTION:Heath Willaims
URL:https://heathwilliams.org/event/dunns-grove-baptist-church-2/
END:VEVENT
BEGIN:VEVENT
DTSTART;VALUE=DATE:20260201
DTEND;VALUE=DATE:20260202
DTSTAMP:20260423T231439
CREATED:20260317T231049Z
LAST-MODIFIED:20260317T231049Z
UID:7226-1769904000-1769990399@heathwilliams.org
SUMMARY:Greater Life Baptist Church
DESCRIPTION:Heath Willaims
URL:https://heathwilliams.org/event/greater-life-baptist-church-2/
END:VEVENT
BEGIN:VEVENT
DTSTART;VALUE=DATE:20260125
DTEND;VALUE=DATE:20260131
DTSTAMP:20260423T231439
CREATED:20260317T230924Z
LAST-MODIFIED:20260317T230924Z
UID:7220-1769299200-1769817599@heathwilliams.org
SUMMARY:Mens Prayer Retreat
DESCRIPTION:Heath Willaims
URL:https://heathwilliams.org/event/mens-prayer-retreat/
END:VEVENT
BEGIN:VEVENT
DTSTART;VALUE=DATE:20260118
DTEND;VALUE=DATE:20260119
DTSTAMP:20260423T231439
CREATED:20260317T230815Z
LAST-MODIFIED:20260317T230815Z
UID:7217-1768694400-1768780799@heathwilliams.org
SUMMARY:Victory Baptist Church
DESCRIPTION:Victory Baptist Church \nLexington\, NC \nPastor: Jeff Mabe \nHeath Willaims
URL:https://heathwilliams.org/event/victory-baptist-church-24/
END:VEVENT
BEGIN:VEVENT
DTSTART;VALUE=DATE:20260109
DTEND;VALUE=DATE:20260110
DTSTAMP:20260423T231439
CREATED:20250824T195130Z
LAST-MODIFIED:20250824T195130Z
UID:6933-1767916800-1768003199@heathwilliams.org
SUMMARY:Myrtle Fellowship
DESCRIPTION:Trinity Baptist Church \nHeath Willaims
URL:https://heathwilliams.org/event/myrtle-fellowship/
END:VEVENT
BEGIN:VEVENT
DTSTART;VALUE=DATE:20260104
DTEND;VALUE=DATE:20260109
DTSTAMP:20260423T231439
CREATED:20250824T195110Z
LAST-MODIFIED:20250824T195110Z
UID:6929-1767484800-1767916799@heathwilliams.org
SUMMARY:New Beginning Missionary Baptist Church
DESCRIPTION:Pastor Bro. Daniel \nSunday Services \nWeeknights 7pm \nHeath Willaims
URL:https://heathwilliams.org/event/new-beginning-missionary-baptist-church/
LOCATION:New Beginnings Baptist Church\, 4415 Calico Road\, Lenoir\, NC\, United States
END:VEVENT
BEGIN:VEVENT
DTSTART;VALUE=DATE:20260102
DTEND;VALUE=DATE:20260104
DTSTAMP:20260423T231439
CREATED:20250824T194956Z
LAST-MODIFIED:20250824T194956Z
UID:6925-1767312000-1767484799@heathwilliams.org
SUMMARY:Youth Conference
DESCRIPTION:Victory Baptist Church \nMorning Seminars \nPreacher Nate White \n  \nHeath Willaims
URL:https://heathwilliams.org/event/youth-conference/
LOCATION:Victory Baptist Church – Denver\, Denver\, NC\, United States
END:VEVENT
BEGIN:VEVENT
DTSTART;VALUE=DATE:20251214
DTEND;VALUE=DATE:20251215
DTSTAMP:20260423T231439
CREATED:20250824T194614Z
LAST-MODIFIED:20250824T194614Z
UID:6921-1765670400-1765756799@heathwilliams.org
SUMMARY:Liberty Baptist Church
DESCRIPTION:Pastor Ken Bowman \nSunday AM \nHeath Willaims
URL:https://heathwilliams.org/event/liberty-baptist-church-6/
LOCATION:Liberty Baptist Church\, Bowden\, GA\, United States
END:VEVENT
BEGIN:VEVENT
DTSTART;VALUE=DATE:20251207
DTEND;VALUE=DATE:20251208
DTSTAMP:20260423T231439
CREATED:20250824T194515Z
LAST-MODIFIED:20250824T194515Z
UID:6916-1765065600-1765151999@heathwilliams.org
SUMMARY:Vicars Chapel
DESCRIPTION:Pastor Gary Adkins \nSunday Services \nHeath Willaims
URL:https://heathwilliams.org/event/vicars-chapel/
LOCATION:Vicars Chapel\, 12421 Stanley Valley Road\, Yuma\, VA\, United States
END:VEVENT
BEGIN:VEVENT
DTSTART;VALUE=DATE:20251130
DTEND;VALUE=DATE:20251204
DTSTAMP:20260423T231439
CREATED:20250824T194218Z
LAST-MODIFIED:20250824T194218Z
UID:6912-1764460800-1764806399@heathwilliams.org
SUMMARY:Beulah Baptist Church
DESCRIPTION:Pastor Dwayne Dillard \nSunday Services \nWeekdays 7pm Nightly \nHeath Willaims
URL:https://heathwilliams.org/event/beulah-baptist-church-14/
LOCATION:Beulah Baptist Church – VA\, Meadowview\, VA\, United States
END:VEVENT
BEGIN:VEVENT
DTSTART;VALUE=DATE:20251123
DTEND;VALUE=DATE:20251124
DTSTAMP:20260423T231439
CREATED:20250824T194134Z
LAST-MODIFIED:20250824T194134Z
UID:6908-1763856000-1763942399@heathwilliams.org
SUMMARY:Gateway Baptist Church
DESCRIPTION:Pastor Tim Ramsey \nSunday Services \nHeath Willaims
URL:https://heathwilliams.org/event/gateway-baptist-church-8/
LOCATION:Gateway Baptist Church\, 1600 Old Furnace Rd\, Boiling Springs\, SC\, 29316\, United States
END:VEVENT
BEGIN:VEVENT
DTSTART;VALUE=DATE:20251116
DTEND;VALUE=DATE:20251122
DTSTAMP:20260423T231439
CREATED:20250824T193936Z
LAST-MODIFIED:20250824T193936Z
UID:6904-1763251200-1763769599@heathwilliams.org
SUMMARY:Family Time
DESCRIPTION:booked off \nHeath Willaims
URL:https://heathwilliams.org/event/family-time-8/
END:VEVENT
BEGIN:VEVENT
DTSTART;VALUE=DATE:20251109
DTEND;VALUE=DATE:20251113
DTSTAMP:20260423T231439
CREATED:20250824T193835Z
LAST-MODIFIED:20250824T193835Z
UID:6899-1762646400-1762991999@heathwilliams.org
SUMMARY:Amazing Grace Baptist Church
DESCRIPTION:Pastor Howard Owens \nSunday Services \nWeekdays 7pm Nightly \nHeath Willaims
URL:https://heathwilliams.org/event/amazing-grace-baptist-church-12/
LOCATION:Amazing Grace Baptist Church\, 4530 NC-135 \, Stoneville\, NC\, 27048\, United States
END:VEVENT
BEGIN:VEVENT
DTSTART;VALUE=DATE:20251103
DTEND;VALUE=DATE:20251107
DTSTAMP:20260423T231439
CREATED:20250824T193735Z
LAST-MODIFIED:20250824T193735Z
UID:6895-1762128000-1762473599@heathwilliams.org
SUMMARY:Winklers Grove Baptist Church
DESCRIPTION:Pastor Paul Deal \n7pm Nightly \nHeath Willaims
URL:https://heathwilliams.org/event/winklers-grove-baptist-church-3/
LOCATION:Winkler’s Grove\, Hickory\, NC\, United States
END:VEVENT
BEGIN:VEVENT
DTSTART;VALUE=DATE:20251102
DTEND;VALUE=DATE:20251103
DTSTAMP:20260423T231439
CREATED:20250824T193641Z
LAST-MODIFIED:20250824T193641Z
UID:6891-1762041600-1762127999@heathwilliams.org
SUMMARY:Gethsemane Baptist Church
DESCRIPTION:Pastor Brent Strouf \nSunday Services \nHeath Willaims
URL:https://heathwilliams.org/event/gethsemane-baptist-church-4/
LOCATION:Gethsemane Baptist Church\, 2006 Preston Street\, Radford\, VA\, United States
END:VEVENT
BEGIN:VEVENT
DTSTART;VALUE=DATE:20251027
DTEND;VALUE=DATE:20251101
DTSTAMP:20260423T231439
CREATED:20250824T193531Z
LAST-MODIFIED:20250824T193531Z
UID:6887-1761523200-1761955199@heathwilliams.org
SUMMARY:Family Time
DESCRIPTION:booked off \nHeath Willaims
URL:https://heathwilliams.org/event/family-time-7/
END:VEVENT
BEGIN:VEVENT
DTSTART;VALUE=DATE:20251026
DTEND;VALUE=DATE:20251027
DTSTAMP:20260423T231439
CREATED:20250824T193458Z
LAST-MODIFIED:20250824T193458Z
UID:6883-1761436800-1761523199@heathwilliams.org
SUMMARY:Piedmont Baptist Church
DESCRIPTION:Pastor Mike Edwards \nSunday Services \nHeath Willaims
URL:https://heathwilliams.org/event/piedmont-baptist-church-11/
LOCATION:Piedmont Baptist Church\, 5870 Wright Rd\, Kannapolis\, NC\, 28081\, United States
END:VEVENT
BEGIN:VEVENT
DTSTART;VALUE=DATE:20251020
DTEND;VALUE=DATE:20251024
DTSTAMP:20260423T231439
CREATED:20250824T193424Z
LAST-MODIFIED:20250824T193424Z
UID:6879-1760918400-1761263999@heathwilliams.org
SUMMARY:Victory Baptist Church
DESCRIPTION:Pastor Jonathan Watts \n7pm Nightly \nHeath Willaims
URL:https://heathwilliams.org/event/victory-baptist-church-23/
LOCATION:Victory Baptist Church – LA\, Hammond\, LA\, United States
END:VEVENT
BEGIN:VEVENT
DTSTART;VALUE=DATE:20251019
DTEND;VALUE=DATE:20251020
DTSTAMP:20260423T231439
CREATED:20250824T193312Z
LAST-MODIFIED:20250824T193312Z
UID:6874-1760832000-1760918399@heathwilliams.org
SUMMARY:First Baptist Church of Arcola
DESCRIPTION:Pastor Luke Lindsey \nSunday Services \n  \nHeath Willaims
URL:https://heathwilliams.org/event/first-baptist-church-of-arcola/
LOCATION:First Baptist Church of Arcola\, 64401 I-55 Frontage Road\, Roseland\, LA\, 70456\, United States
END:VEVENT
BEGIN:VEVENT
DTSTART;VALUE=DATE:20251012
DTEND;VALUE=DATE:20251016
DTSTAMP:20260423T231439
CREATED:20250824T193016Z
LAST-MODIFIED:20250824T193016Z
UID:6869-1760227200-1760572799@heathwilliams.org
SUMMARY:Mount Pisgah Baptist Church
DESCRIPTION:Pastor Dumas \nSunday Services \nWeekdays 7pm Nightly \nHeath Willaims
URL:https://heathwilliams.org/event/mount-pisgah-baptist-church-2/
LOCATION:Mount Pisgah Baptist Church\, 20249-2-411 Buck Island Road\, Athens\, AL\, 35614
END:VEVENT
BEGIN:VEVENT
DTSTART;VALUE=DATE:20251006
DTEND;VALUE=DATE:20251009
DTSTAMP:20260423T231439
CREATED:20250824T192903Z
LAST-MODIFIED:20250824T192903Z
UID:6865-1759708800-1759967999@heathwilliams.org
SUMMARY:Freedom Baptist Church
DESCRIPTION:7pm Nightly \nHeath Willaims
URL:https://heathwilliams.org/event/freedom-baptist-church-3/
LOCATION:Freedom Baptist Church – Reidsville\, 471 Stone Road\, Reidsville\, NC
END:VEVENT
BEGIN:VEVENT
DTSTART;VALUE=DATE:20250928
DTEND;VALUE=DATE:20251002
DTSTAMP:20260423T231439
CREATED:20250824T191930Z
LAST-MODIFIED:20250824T191930Z
UID:6861-1759017600-1759363199@heathwilliams.org
SUMMARY:New Home Baptist Church
DESCRIPTION:Pastor David Smith \nSunday Services \nWeeknight\, 7pm nightly \nHeath Willaims
URL:https://heathwilliams.org/event/new-home-baptist-church-3/
LOCATION:New Home Baptist Church\, Pisgah\, AL\, United States
END:VEVENT
END:VCALENDAR