BEGIN:VCALENDAR
VERSION:2.0
PRODID:-//Heath Williams Ministries - ECPv6.15.20//NONSGML v1.0//EN
CALSCALE:GREGORIAN
METHOD:PUBLISH
X-ORIGINAL-URL:https://heathwilliams.org
X-WR-CALDESC:Events for Heath Williams Ministries
REFRESH-INTERVAL;VALUE=DURATION:PT1H
X-Robots-Tag:noindex
X-PUBLISHED-TTL:PT1H
BEGIN:VTIMEZONE
TZID:America/New_York
BEGIN:DAYLIGHT
TZOFFSETFROM:-0500
TZOFFSETTO:-0400
TZNAME:EDT
DTSTART:20220313T070000
END:DAYLIGHT
BEGIN:STANDARD
TZOFFSETFROM:-0400
TZOFFSETTO:-0500
TZNAME:EST
DTSTART:20221106T060000
END:STANDARD
BEGIN:DAYLIGHT
TZOFFSETFROM:-0500
TZOFFSETTO:-0400
TZNAME:EDT
DTSTART:20230312T070000
END:DAYLIGHT
BEGIN:STANDARD
TZOFFSETFROM:-0400
TZOFFSETTO:-0500
TZNAME:EST
DTSTART:20231105T060000
END:STANDARD
BEGIN:DAYLIGHT
TZOFFSETFROM:-0500
TZOFFSETTO:-0400
TZNAME:EDT
DTSTART:20240310T070000
END:DAYLIGHT
BEGIN:STANDARD
TZOFFSETFROM:-0400
TZOFFSETTO:-0500
TZNAME:EST
DTSTART:20241103T060000
END:STANDARD
END:VTIMEZONE
BEGIN:VEVENT
DTSTART;VALUE=DATE:20230821
DTEND;VALUE=DATE:20230826
DTSTAMP:20260425T001355
CREATED:20230221T003939Z
LAST-MODIFIED:20230221T003939Z
UID:5824-1692576000-1693007999@heathwilliams.org
SUMMARY:Mount Victory
DESCRIPTION:Pastor: Ethan Greene \nHeath Willaims
URL:https://heathwilliams.org/event/mount-victory/
LOCATION:Mount Victory\, 507 Mill Timber Creek Road\, Newlnd\, NC\, 28657\, United States
END:VEVENT
BEGIN:VEVENT
DTSTART;VALUE=DATE:20230806
DTEND;VALUE=DATE:20230807
DTSTAMP:20260425T001355
CREATED:20230221T003639Z
LAST-MODIFIED:20230221T003639Z
UID:5820-1691280000-1691366399@heathwilliams.org
SUMMARY:Piedmont Jubilee
DESCRIPTION:Sunday PM \nHeath Willaims
URL:https://heathwilliams.org/event/piedmont-jubilee-2/
LOCATION:Church Street Baptist Church\, 3113 N Church Street \, Greensboro \, 27405\, United States
END:VEVENT
BEGIN:VEVENT
DTSTART;VALUE=DATE:20230731
DTEND;VALUE=DATE:20230805
DTSTAMP:20260425T001355
CREATED:20230221T003436Z
LAST-MODIFIED:20230221T003722Z
UID:5817-1690761600-1691193599@heathwilliams.org
SUMMARY:New Beginnings Baptist Church
DESCRIPTION:Pastor: Daniel Buchanan \nHeath Willaims
URL:https://heathwilliams.org/event/new-beginnings-baptist-church/
LOCATION:New Beginnings Baptist Church\, 4415 Calico Road\, Lenoir\, NC\, United States
END:VEVENT
BEGIN:VEVENT
DTSTART;VALUE=DATE:20230730
DTEND;VALUE=DATE:20230731
DTSTAMP:20260425T001355
CREATED:20230221T003351Z
LAST-MODIFIED:20230221T003351Z
UID:5814-1690675200-1690761599@heathwilliams.org
SUMMARY:Land of the Sky Jubilee
DESCRIPTION:Pastor: Winston Parrish \nHeath Willaims
URL:https://heathwilliams.org/event/land-of-the-sky-jubilee-2/
LOCATION:Trinity Baptist Church Asheville\, Asheville\, NC\, United States
END:VEVENT
BEGIN:VEVENT
DTSTART;VALUE=DATE:20230723
DTEND;VALUE=DATE:20230724
DTSTAMP:20260425T001355
CREATED:20230221T003302Z
LAST-MODIFIED:20230221T003302Z
UID:5811-1690070400-1690156799@heathwilliams.org
SUMMARY:Beulah Baptist Church
DESCRIPTION:Pastor: Neal Jackson \nHeath Willaims
URL:https://heathwilliams.org/event/beulah-baptist-church-8/
LOCATION:Beulah Baptist Church\, Bennett\, North Carolina
END:VEVENT
BEGIN:VEVENT
DTSTART;VALUE=DATE:20230717
DTEND;VALUE=DATE:20230721
DTSTAMP:20260425T001355
CREATED:20230515T140847Z
LAST-MODIFIED:20230515T140847Z
UID:5957-1689552000-1689897599@heathwilliams.org
SUMMARY:Arise
DESCRIPTION:Heath Willaims
URL:https://heathwilliams.org/event/arise/
END:VEVENT
BEGIN:VEVENT
DTSTART;VALUE=DATE:20230710
DTEND;VALUE=DATE:20230713
DTSTAMP:20260425T001355
CREATED:20230515T140734Z
LAST-MODIFIED:20230515T140734Z
UID:5954-1688947200-1689206399@heathwilliams.org
SUMMARY:Old Paths Youth Camp
DESCRIPTION:Pastor: Kevin Munson \nHeath Willaims
URL:https://heathwilliams.org/event/old-paths-youth-camp-2/
LOCATION:Old Paths Youth Camp\, Asheboro\, NC\, United States
END:VEVENT
BEGIN:VEVENT
DTSTART;VALUE=DATE:20230709
DTEND;VALUE=DATE:20230710
DTSTAMP:20260425T001355
CREATED:20230515T140655Z
LAST-MODIFIED:20230515T140655Z
UID:5950-1688860800-1688947199@heathwilliams.org
SUMMARY:Temple Baptist Church
DESCRIPTION:Pastor: Charles Lawson \nHeath Willaims
URL:https://heathwilliams.org/event/temple-baptist-church-2/
LOCATION:Temple Baptist Church\, Knoxville\, TN\, United States
END:VEVENT
BEGIN:VEVENT
DTSTART;VALUE=DATE:20230626
DTEND;VALUE=DATE:20230701
DTSTAMP:20260425T001355
CREATED:20221216T145110Z
LAST-MODIFIED:20221216T145110Z
UID:5794-1687737600-1688169599@heathwilliams.org
SUMMARY:East Texas Camp Meeting
DESCRIPTION:Heath Willaims
URL:https://heathwilliams.org/event/east-texas-camp-meeting-2/
END:VEVENT
BEGIN:VEVENT
DTSTART;VALUE=DATE:20230625
DTEND;VALUE=DATE:20230626
DTSTAMP:20260425T001355
CREATED:20230515T140451Z
LAST-MODIFIED:20230515T140451Z
UID:5946-1687651200-1687737599@heathwilliams.org
SUMMARY:Rock Lick Baptist Church
DESCRIPTION:Sunday AM service only \nPastor: Dakota Heck \nHeath Willaims
URL:https://heathwilliams.org/event/rock-lick-baptist-church-3/
LOCATION:Rock Lick Baptist Church\, Pennington Gap
END:VEVENT
BEGIN:VEVENT
DTSTART;VALUE=DATE:20230618
DTEND;VALUE=DATE:20230622
DTSTAMP:20260425T001355
CREATED:20221216T144744Z
LAST-MODIFIED:20230515T140218Z
UID:5785-1687046400-1687391999@heathwilliams.org
SUMMARY:Carbondale Baptist Church
DESCRIPTION:Pastor: Jeff Floyd \nHeath Willaims
URL:https://heathwilliams.org/event/carbondale-baptist-church-2/
END:VEVENT
BEGIN:VEVENT
DTSTART;VALUE=DATE:20230612
DTEND;VALUE=DATE:20230617
DTSTAMP:20260425T001355
CREATED:20221216T145001Z
LAST-MODIFIED:20221216T145001Z
UID:5791-1686528000-1686959999@heathwilliams.org
SUMMARY:Heritage Tour
DESCRIPTION:Heath Willaims
URL:https://heathwilliams.org/event/heritage-tour/
END:VEVENT
BEGIN:VEVENT
DTSTART;VALUE=DATE:20230604
DTEND;VALUE=DATE:20230608
DTSTAMP:20260425T001355
CREATED:20221216T144926Z
LAST-MODIFIED:20221216T144926Z
UID:5788-1685836800-1686182399@heathwilliams.org
SUMMARY:Old Savanna Baptist Church Tent Meeting
DESCRIPTION:Pastor: Austin Frady \nHeath Willaims
URL:https://heathwilliams.org/event/old-savanna-baptist-church-tent-meeting/
LOCATION:Old Savannah BC\, Sylva\, NC\, United States
END:VEVENT
BEGIN:VEVENT
DTSTART;VALUE=DATE:20230528
DTEND;VALUE=DATE:20230529
DTSTAMP:20260425T001355
CREATED:20230515T140327Z
LAST-MODIFIED:20230515T140327Z
UID:5942-1685232000-1685318399@heathwilliams.org
SUMMARY:Gethsemane Baptist Church
DESCRIPTION:Pastor: Brent Strouf \nHeath Willaims
URL:https://heathwilliams.org/event/gethsemane-baptist-church-3/
LOCATION:Gethsemane Baptist Church\, 2006 Preston Street\, Radford\, VA\, United States
END:VEVENT
BEGIN:VEVENT
DTSTART;VALUE=DATE:20230525
DTEND;VALUE=DATE:20230527
DTSTAMP:20260425T001355
CREATED:20230515T140050Z
LAST-MODIFIED:20230515T140118Z
UID:5937-1684972800-1685145599@heathwilliams.org
SUMMARY:Mill Creek Baptist Church
DESCRIPTION:Pastor: Calvin McCray \nHeath Willaims
URL:https://heathwilliams.org/event/mill-creek-baptist-church-2/
LOCATION:Mill Creek Baptist Church\, Fall Branch\, TN\, United States
END:VEVENT
BEGIN:VEVENT
DTSTART;VALUE=DATE:20230521
DTEND;VALUE=DATE:20230525
DTSTAMP:20260425T001355
CREATED:20221216T144707Z
LAST-MODIFIED:20221216T144707Z
UID:5782-1684627200-1684972799@heathwilliams.org
SUMMARY:Fellowship Baptist Church
DESCRIPTION:Pastor: Tim Brown \nHeath Willaims
URL:https://heathwilliams.org/event/fellowship-baptist-church-5/
LOCATION:Fellowship Baptist Church\, Canton\, OH\, United States
END:VEVENT
BEGIN:VEVENT
DTSTART;VALUE=DATE:20230518
DTEND;VALUE=DATE:20230520
DTSTAMP:20260425T001355
CREATED:20230221T002144Z
LAST-MODIFIED:20230221T002144Z
UID:5804-1684368000-1684540799@heathwilliams.org
SUMMARY:Floyd Missionary Baptist Church
DESCRIPTION:Pastor: Corey Engebretson \nHeath Willaims
URL:https://heathwilliams.org/event/floyd-missionary-baptist-church-3/
LOCATION:Floyd Missionary Baptist Church\, Eden\, NC\, United States
END:VEVENT
BEGIN:VEVENT
DTSTART;VALUE=DATE:20230430
DTEND;VALUE=DATE:20230503
DTSTAMP:20260425T001355
CREATED:20221216T144621Z
LAST-MODIFIED:20221216T144621Z
UID:5779-1682812800-1683071999@heathwilliams.org
SUMMARY:Greatest Mission Baptist Church
DESCRIPTION:Pastor: Steve Parrish \nHeath Willaims
URL:https://heathwilliams.org/event/greatest-mission-baptist-church-5/
LOCATION:Greatest Mission Baptist Church\, Pontotoc\, MS\, United States
END:VEVENT
BEGIN:VEVENT
DTSTART;VALUE=DATE:20230423
DTEND;VALUE=DATE:20230427
DTSTAMP:20260425T001355
CREATED:20221216T144511Z
LAST-MODIFIED:20221216T144511Z
UID:5775-1682208000-1682553599@heathwilliams.org
SUMMARY:Mt Pisgah Baptist Church
DESCRIPTION:Pastor Dumas \nHeath Willaims
URL:https://heathwilliams.org/event/mt-pisgah-baptist-church-3/
LOCATION:Mount Pisgah Baptist Church\, 20249-2-411 Buck Island Road\, Athens\, AL\, 35614
END:VEVENT
BEGIN:VEVENT
DTSTART;VALUE=DATE:20230416
DTEND;VALUE=DATE:20230420
DTSTAMP:20260425T001355
CREATED:20221216T144401Z
LAST-MODIFIED:20221216T144401Z
UID:5772-1681603200-1681948799@heathwilliams.org
SUMMARY:Oak Glenn Baptist Church
DESCRIPTION:Pastor: Danny Sykes \nHeath Willaims
URL:https://heathwilliams.org/event/oak-glenn-baptist-church-2/
LOCATION:Oak Glenn Baptist\, Yuma\, VA\, United States
END:VEVENT
BEGIN:VEVENT
DTSTART;VALUE=DATE:20230403
DTEND;VALUE=DATE:20230407
DTSTAMP:20260425T001355
CREATED:20221216T144227Z
LAST-MODIFIED:20221216T144227Z
UID:5769-1680480000-1680825599@heathwilliams.org
SUMMARY:Freeman Street Baptist Church
DESCRIPTION:Pastor: Brandon Harrison \nHeath Willaims
URL:https://heathwilliams.org/event/freeman-street-baptist-church-3/
LOCATION:Freeman Street Baptist Church\, Winston-Salem\, NC\, United States
END:VEVENT
BEGIN:VEVENT
DTSTART;VALUE=DATE:20230402
DTEND;VALUE=DATE:20230403
DTSTAMP:20260425T001355
CREATED:20221216T144025Z
LAST-MODIFIED:20221216T144025Z
UID:5765-1680393600-1680479999@heathwilliams.org
SUMMARY:Crossroads Baptist Church
DESCRIPTION:Pastor: Kenny Kuykendall \nHeath Willaims
URL:https://heathwilliams.org/event/crossroads-baptist-church-5/
LOCATION:Crossroads Baptist Church\, Prospect Church Road\, Lawrenceville\, GA\, United States
END:VEVENT
BEGIN:VEVENT
DTSTART;VALUE=DATE:20230326
DTEND;VALUE=DATE:20230401
DTSTAMP:20260425T001355
CREATED:20221216T143935Z
LAST-MODIFIED:20221216T143935Z
UID:5762-1679788800-1680307199@heathwilliams.org
SUMMARY:Southside Baptist Church
DESCRIPTION:Pastor: Shaun Thomas \nHeath Willaims
URL:https://heathwilliams.org/event/southside-baptist-church-5/
LOCATION:Southside Baptist Church\, 2920 Browns Landing Road\, Palatka\, FL\, 32177\, United States
END:VEVENT
BEGIN:VEVENT
DTSTART;VALUE=DATE:20230319
DTEND;VALUE=DATE:20230323
DTSTAMP:20260425T001355
CREATED:20221216T143846Z
LAST-MODIFIED:20221216T143846Z
UID:5759-1679184000-1679529599@heathwilliams.org
SUMMARY:Wheeler Grove Baptist Church
DESCRIPTION:Pastor: Josh Westmooreland \nHeath Willaims
URL:https://heathwilliams.org/event/wheeler-grove-baptist-church-3/
LOCATION:Wheeler Grove Baptist\, Corinth\, MS\, United States
END:VEVENT
BEGIN:VEVENT
DTSTART;VALUE=DATE:20230313
DTEND;VALUE=DATE:20230316
DTSTAMP:20260425T001355
CREATED:20221216T143755Z
LAST-MODIFIED:20221216T143755Z
UID:5756-1678665600-1678924799@heathwilliams.org
SUMMARY:Camp Zion
DESCRIPTION:Pastor: Earl Farley \nHeath Willaims
URL:https://heathwilliams.org/event/camp-zion-5/
LOCATION:Camp Zion\, 1718 Ms-178\, Myrtle\, MS\, United States
END:VEVENT
BEGIN:VEVENT
DTSTART;VALUE=DATE:20230312
DTEND;VALUE=DATE:20230313
DTSTAMP:20260425T001355
CREATED:20221216T143552Z
LAST-MODIFIED:20221216T143552Z
UID:5752-1678579200-1678665599@heathwilliams.org
SUMMARY:Unity Baptist Church
DESCRIPTION:Pastor: Ronnie Barefield \nHeath Willaims
URL:https://heathwilliams.org/event/unity-baptist-church-2/
LOCATION:Unity Baptist Church\, Ripley\, MS\, United States
END:VEVENT
BEGIN:VEVENT
DTSTART;VALUE=DATE:20230310
DTEND;VALUE=DATE:20230311
DTSTAMP:20260425T001355
CREATED:20221216T143327Z
LAST-MODIFIED:20221216T143327Z
UID:5748-1678406400-1678492799@heathwilliams.org
SUMMARY:New Grace Baptist Church Youth Rally
DESCRIPTION:Pastor: Jerry Taylor \nHeath Willaims
URL:https://heathwilliams.org/event/new-grace-baptist-church-youth-rally/
LOCATION:New Grace Baptist Church\, Iron Station\, NC\, United States
END:VEVENT
BEGIN:VEVENT
DTSTART;VALUE=DATE:20230305
DTEND;VALUE=DATE:20230309
DTSTAMP:20260425T001355
CREATED:20221216T143158Z
LAST-MODIFIED:20221216T143158Z
UID:5745-1677974400-1678319999@heathwilliams.org
SUMMARY:Macland Baptist Church
DESCRIPTION:Pastor: Mike Boatfield \nHeath Willaims
URL:https://heathwilliams.org/event/macland-baptist-church-4/
LOCATION:Macland Baptist Church\, Powder Springs\, Georgia
END:VEVENT
BEGIN:VEVENT
DTSTART;VALUE=DATE:20230227
DTEND;VALUE=DATE:20230302
DTSTAMP:20260425T001355
CREATED:20230221T001914Z
LAST-MODIFIED:20230221T001914Z
UID:5799-1677456000-1677715199@heathwilliams.org
SUMMARY:Crossroads Baptist Church
DESCRIPTION:Pastor: Kenny Kuykendall \nHeath Willaims
URL:https://heathwilliams.org/event/crossroads-baptist-church-6/
LOCATION:Crossroads Baptist Church\, Prospect Church Road\, Lawrenceville\, GA\, United States
END:VEVENT
BEGIN:VEVENT
DTSTART;VALUE=DATE:20230226
DTEND;VALUE=DATE:20230227
DTSTAMP:20260425T001355
CREATED:20221216T143056Z
LAST-MODIFIED:20221216T143056Z
UID:5742-1677369600-1677455999@heathwilliams.org
SUMMARY:Piedmont Baptist Church
DESCRIPTION:Pastor: Mike Edwards \nHeath Willaims
URL:https://heathwilliams.org/event/piedmont-baptist-church-9/
LOCATION:Piedmont Baptist Church\, 5870 Wright Rd\, Kannapolis\, NC\, 28081\, United States
END:VEVENT
END:VCALENDAR