BEGIN:VCALENDAR
VERSION:2.0
PRODID:-//Heath Williams Ministries - ECPv6.15.20//NONSGML v1.0//EN
CALSCALE:GREGORIAN
METHOD:PUBLISH
X-WR-CALNAME:Heath Williams Ministries
X-ORIGINAL-URL:https://heathwilliams.org
X-WR-CALDESC:Events for Heath Williams Ministries
REFRESH-INTERVAL;VALUE=DURATION:PT1H
X-Robots-Tag:noindex
X-PUBLISHED-TTL:PT1H
BEGIN:VTIMEZONE
TZID:America/New_York
BEGIN:DAYLIGHT
TZOFFSETFROM:-0500
TZOFFSETTO:-0400
TZNAME:EDT
DTSTART:20220313T070000
END:DAYLIGHT
BEGIN:STANDARD
TZOFFSETFROM:-0400
TZOFFSETTO:-0500
TZNAME:EST
DTSTART:20221106T060000
END:STANDARD
BEGIN:DAYLIGHT
TZOFFSETFROM:-0500
TZOFFSETTO:-0400
TZNAME:EDT
DTSTART:20230312T070000
END:DAYLIGHT
BEGIN:STANDARD
TZOFFSETFROM:-0400
TZOFFSETTO:-0500
TZNAME:EST
DTSTART:20231105T060000
END:STANDARD
BEGIN:DAYLIGHT
TZOFFSETFROM:-0500
TZOFFSETTO:-0400
TZNAME:EDT
DTSTART:20240310T070000
END:DAYLIGHT
BEGIN:STANDARD
TZOFFSETFROM:-0400
TZOFFSETTO:-0500
TZNAME:EST
DTSTART:20241103T060000
END:STANDARD
BEGIN:DAYLIGHT
TZOFFSETFROM:-0500
TZOFFSETTO:-0400
TZNAME:EDT
DTSTART:20250309T070000
END:DAYLIGHT
BEGIN:STANDARD
TZOFFSETFROM:-0400
TZOFFSETTO:-0500
TZNAME:EST
DTSTART:20251102T060000
END:STANDARD
END:VTIMEZONE
BEGIN:VEVENT
DTSTART;VALUE=DATE:20240420
DTEND;VALUE=DATE:20240421
DTSTAMP:20260424T185739
CREATED:20240227T223121Z
LAST-MODIFIED:20240227T223121Z
UID:6233-1713571200-1713657599@heathwilliams.org
SUMMARY:Providence Road Sportsman Banquet
DESCRIPTION:Pastor Lee McNeil \nHeath Willaims
URL:https://heathwilliams.org/event/providence-road-sportsman-banquet/
LOCATION:Providence Road\, Maiden\, NC\, United States
END:VEVENT
BEGIN:VEVENT
DTSTART;VALUE=DATE:20240415
DTEND;VALUE=DATE:20240419
DTSTAMP:20260424T185739
CREATED:20240227T223011Z
LAST-MODIFIED:20240227T223011Z
UID:6230-1713139200-1713484799@heathwilliams.org
SUMMARY:Freedom Street Baptist Church
DESCRIPTION:Pastor Brandon Harrison \nHeath Willaims
URL:https://heathwilliams.org/event/freedom-street-baptist-church-2/
LOCATION:Freeman Street Baptist Church\, Winston-Salem\, NC\, United States
END:VEVENT
BEGIN:VEVENT
DTSTART;VALUE=DATE:20240414
DTEND;VALUE=DATE:20240415
DTSTAMP:20260424T185739
CREATED:20240227T222927Z
LAST-MODIFIED:20240227T222927Z
UID:6227-1713052800-1713139199@heathwilliams.org
SUMMARY:Baux Mountain Baptist Church
DESCRIPTION:Heath Willaims
URL:https://heathwilliams.org/event/baux-mountain-baptist-church/
LOCATION:VA
END:VEVENT
BEGIN:VEVENT
DTSTART;VALUE=DATE:20240407
DTEND;VALUE=DATE:20240411
DTSTAMP:20260424T185739
CREATED:20240227T222841Z
LAST-MODIFIED:20240227T222841Z
UID:6224-1712448000-1712793599@heathwilliams.org
SUMMARY:Greatest Mission Baptist Church
DESCRIPTION:Pastor Steve Parrish \nHeath Willaims
URL:https://heathwilliams.org/event/greatest-mission-baptist-church-6/
LOCATION:Greatest Mission Baptist Church\, Pontotoc\, MS\, United States
END:VEVENT
BEGIN:VEVENT
DTSTART;VALUE=DATE:20240401
DTEND;VALUE=DATE:20240403
DTSTAMP:20260424T185739
CREATED:20240227T222803Z
LAST-MODIFIED:20240227T222803Z
UID:6219-1711929600-1712102399@heathwilliams.org
SUMMARY:Friendship Baptist Church
DESCRIPTION:Pastor Hunter Ramsey \nHeath Willaims
URL:https://heathwilliams.org/event/friendship-baptist-church-2/
LOCATION:Friendship Baptist Church\, Honea Path\, South Carolina\, United States
END:VEVENT
BEGIN:VEVENT
DTSTART;VALUE=DATE:20240325
DTEND;VALUE=DATE:20240329
DTSTAMP:20260424T185739
CREATED:20240227T222504Z
LAST-MODIFIED:20240227T222504Z
UID:6213-1711324800-1711670399@heathwilliams.org
SUMMARY:Southside Baptist Church
DESCRIPTION:Pastor Shaun Thomas \nHeath Willaims
URL:https://heathwilliams.org/event/southside-baptist-church-6/
LOCATION:Southside Baptist Church\, 2920 Browns Landing Road\, Palatka\, FL\, 32177\, United States
END:VEVENT
BEGIN:VEVENT
DTSTART;VALUE=DATE:20240324
DTEND;VALUE=DATE:20240325
DTSTAMP:20260424T185739
CREATED:20240227T222643Z
LAST-MODIFIED:20240227T222643Z
UID:6216-1711238400-1711324799@heathwilliams.org
SUMMARY:Smyrna Baptist Church
DESCRIPTION:Pastor Josh Greene \nHeath Willaims
URL:https://heathwilliams.org/event/smyrna-baptist-church-2/
LOCATION:Smyrna Baptist Church\, Starke\, FL\, United States
END:VEVENT
BEGIN:VEVENT
DTSTART;VALUE=DATE:20240317
DTEND;VALUE=DATE:20240321
DTSTAMP:20260424T185739
CREATED:20240227T222343Z
LAST-MODIFIED:20240227T222343Z
UID:6210-1710633600-1710979199@heathwilliams.org
SUMMARY:Wheeler Grove Baptist Church
DESCRIPTION:Pastor Josh Westmoreland \nHeath Willaims
URL:https://heathwilliams.org/event/wheeler-grove-baptist-church-4/
LOCATION:Wheeler Grove Baptist\, Corinth\, MS\, United States
END:VEVENT
BEGIN:VEVENT
DTSTART;VALUE=DATE:20240311
DTEND;VALUE=DATE:20240314
DTSTAMP:20260424T185739
CREATED:20240227T222307Z
LAST-MODIFIED:20240227T222307Z
UID:6207-1710115200-1710374399@heathwilliams.org
SUMMARY:Camp Zion
DESCRIPTION:Pastor Earl Farley \nHeath Willaims
URL:https://heathwilliams.org/event/camp-zion-6/
LOCATION:Camp Zion\, 1718 Ms-178\, Myrtle\, MS\, United States
END:VEVENT
BEGIN:VEVENT
DTSTART;VALUE=DATE:20240310
DTEND;VALUE=DATE:20240311
DTSTAMP:20260424T185739
CREATED:20240227T222214Z
LAST-MODIFIED:20240227T222214Z
UID:6202-1710028800-1710115199@heathwilliams.org
SUMMARY:New Life Baptist Church
DESCRIPTION:Pastor Mike Whitt \nHeath Willaims
URL:https://heathwilliams.org/event/new-life-baptist-church-4/
LOCATION:New Life Baptist Church\, 6413 Burlington Rd\, Roxboro\, NC\, United States
END:VEVENT
BEGIN:VEVENT
DTSTART;VALUE=DATE:20240303
DTEND;VALUE=DATE:20240304
DTSTAMP:20260424T185739
CREATED:20240227T221941Z
LAST-MODIFIED:20240227T222015Z
UID:6193-1709424000-1709510399@heathwilliams.org
SUMMARY:Crossroads Baptist Church
DESCRIPTION:Pastor Kenny Kuykendall \nHeath Willaims
URL:https://heathwilliams.org/event/crossroads-baptist-church-8/
LOCATION:Crossroads Baptist Church\, Prospect Church Road\, Lawrenceville\, GA\, United States
END:VEVENT
BEGIN:VEVENT
DTSTART;VALUE=DATE:20240226
DTEND;VALUE=DATE:20240229
DTSTAMP:20260424T185739
CREATED:20240227T222055Z
LAST-MODIFIED:20240227T222055Z
UID:6199-1708905600-1709164799@heathwilliams.org
SUMMARY:Victory Baptist Church
DESCRIPTION:Pastor: Von Ramsey \nHeath Willaims
URL:https://heathwilliams.org/event/victory-baptist-church-19/
LOCATION:VA
END:VEVENT
BEGIN:VEVENT
DTSTART;VALUE=DATE:20231231
DTEND;VALUE=DATE:20240106
DTSTAMP:20260424T185739
CREATED:20231016T132155Z
LAST-MODIFIED:20231016T132155Z
UID:6043-1703980800-1704499199@heathwilliams.org
SUMMARY:Power Conference
DESCRIPTION:Pastor: Daniel Buchannan \nHeath Willaims
URL:https://heathwilliams.org/event/power-conference-6/
LOCATION:New Beginnings Baptist Church\, 4415 Calico Road\, Lenoir\, NC\, United States
END:VEVENT
BEGIN:VEVENT
DTSTART;VALUE=DATE:20231210
DTEND;VALUE=DATE:20231211
DTSTAMP:20260424T185739
CREATED:20231016T132048Z
LAST-MODIFIED:20231016T132048Z
UID:6038-1702166400-1702252799@heathwilliams.org
SUMMARY:Pleasant Hill Baptist Church
DESCRIPTION:Pastor: Cogan East \nHeath Willaims
URL:https://heathwilliams.org/event/pleasant-hill-baptist-church-2/
LOCATION:Pleasant Hill BC – Blacksburg\, Blacksburg\, SC\, United States
END:VEVENT
BEGIN:VEVENT
DTSTART;VALUE=DATE:20231203
DTEND;VALUE=DATE:20231208
DTSTAMP:20260424T185739
CREATED:20231016T131921Z
LAST-MODIFIED:20231016T131921Z
UID:6035-1701561600-1701993599@heathwilliams.org
SUMMARY:Myrtle
DESCRIPTION:Heath Willaims
URL:https://heathwilliams.org/event/myrtle/
LOCATION:VA
END:VEVENT
BEGIN:VEVENT
DTSTART;VALUE=DATE:20231126
DTEND;VALUE=DATE:20231130
DTSTAMP:20260424T185739
CREATED:20231016T131850Z
LAST-MODIFIED:20231016T131850Z
UID:6031-1700956800-1701302399@heathwilliams.org
SUMMARY:Amazing Grace Baptist Church
DESCRIPTION:Heath Willaims
URL:https://heathwilliams.org/event/amazing-grace-baptist-church-10/
LOCATION:Amazing Grace Baptist Church\, 4530 NC-135 \, Stoneville\, NC\, 27048\, United States
END:VEVENT
BEGIN:VEVENT
DTSTART;VALUE=DATE:20231119
DTEND;VALUE=DATE:20231120
DTSTAMP:20260424T185739
CREATED:20231016T131759Z
LAST-MODIFIED:20231016T131759Z
UID:6027-1700352000-1700438399@heathwilliams.org
SUMMARY:Beulah Baptist Church
DESCRIPTION:AM Service Only \nHeath Willaims
URL:https://heathwilliams.org/event/beulah-baptist-church-10/
LOCATION:Beulah Baptist Church\, Bennett\, North Carolina
END:VEVENT
BEGIN:VEVENT
DTSTART;VALUE=DATE:20231112
DTEND;VALUE=DATE:20231113
DTSTAMP:20260424T185739
CREATED:20231016T131722Z
LAST-MODIFIED:20231016T131722Z
UID:6020-1699747200-1699833599@heathwilliams.org
SUMMARY:Bethel Baptist Church
DESCRIPTION:Pastor: Jody Harrison \nHeath Willaims
URL:https://heathwilliams.org/event/bethel-baptist-church-7/
LOCATION:Bethel Baptist Church – Asheboro\, Asheboro\, NC\, United States
END:VEVENT
BEGIN:VEVENT
DTSTART;VALUE=DATE:20231105
DTEND;VALUE=DATE:20231109
DTSTAMP:20260424T185739
CREATED:20231016T131426Z
LAST-MODIFIED:20231016T131426Z
UID:6016-1699142400-1699487999@heathwilliams.org
SUMMARY:Winkler's Grove Baptist Church
DESCRIPTION:Heath Willaims
URL:https://heathwilliams.org/event/winklers-grove-baptist-church/
LOCATION:Winkler’s Grove\, Hickory\, NC\, United States
END:VEVENT
BEGIN:VEVENT
DTSTART;VALUE=DATE:20231105
DTEND;VALUE=DATE:20231106
DTSTAMP:20260424T185739
CREATED:20231016T131308Z
LAST-MODIFIED:20231016T131308Z
UID:6013-1699142400-1699228799@heathwilliams.org
SUMMARY:Crossroads Baptist Church
DESCRIPTION:AM Service Only \nPastor: Brian Dula \nHeath Willaims
URL:https://heathwilliams.org/event/crossroads-baptist-church-7/
LOCATION:Crossroads Baptist – Lenoir\, Lenoir\, NC\, United States
END:VEVENT
BEGIN:VEVENT
DTSTART;VALUE=DATE:20231022
DTEND;VALUE=DATE:20231023
DTSTAMP:20260424T185739
CREATED:20231016T131124Z
LAST-MODIFIED:20231016T131124Z
UID:6009-1697932800-1698019199@heathwilliams.org
SUMMARY:Belmont Baptist Church
DESCRIPTION:Pastor: Nathaniel Hobbs \nHeath Willaims
URL:https://heathwilliams.org/event/belmont-baptist-church-2/
LOCATION:Belmont Baptist\, Burlington\, NC\, United States
END:VEVENT
BEGIN:VEVENT
DTSTART;VALUE=DATE:20231016
DTEND;VALUE=DATE:20231020
DTSTAMP:20260424T185739
CREATED:20231016T131041Z
LAST-MODIFIED:20231016T131041Z
UID:6005-1697414400-1697759999@heathwilliams.org
SUMMARY:Beulah Baptist Church
DESCRIPTION:Heath Willaims
URL:https://heathwilliams.org/event/beulah-baptist-church-9/
LOCATION:Beulah Baptist Church – VA\, Meadowview\, VA\, United States
END:VEVENT
BEGIN:VEVENT
DTSTART;VALUE=DATE:20231015
DTEND;VALUE=DATE:20231016
DTSTAMP:20260424T185739
CREATED:20231016T130947Z
LAST-MODIFIED:20231016T130947Z
UID:6002-1697328000-1697414399@heathwilliams.org
SUMMARY:Victory Baptist Church
DESCRIPTION:Pastor: Von Ramsey \nHeath Willaims
URL:https://heathwilliams.org/event/victory-baptist-church-18/
LOCATION:Victory Baptist Church – Denver\, Denver\, NC\, United States
END:VEVENT
BEGIN:VEVENT
DTSTART;VALUE=DATE:20231008
DTEND;VALUE=DATE:20231014
DTSTAMP:20260424T185739
CREATED:20231016T130910Z
LAST-MODIFIED:20231016T130910Z
UID:5999-1696723200-1697241599@heathwilliams.org
SUMMARY:Myrtle Work Week
DESCRIPTION:Heath Willaims
URL:https://heathwilliams.org/event/myrtle-work-week/
LOCATION:VA
END:VEVENT
BEGIN:VEVENT
DTSTART;VALUE=DATE:20230924
DTEND;VALUE=DATE:20230930
DTSTAMP:20260424T185739
CREATED:20231016T130615Z
LAST-MODIFIED:20231016T130630Z
UID:5990-1695513600-1696031999@heathwilliams.org
SUMMARY:Midwest Tent Revival
DESCRIPTION:Pastor: Randy Glenn \nHeath Willaims
URL:https://heathwilliams.org/event/midwest-tent-revival-4/
LOCATION:Midwest Tent Revival\, Indiana
END:VEVENT
BEGIN:VEVENT
DTSTART;VALUE=DATE:20230917
DTEND;VALUE=DATE:20230923
DTSTAMP:20260424T185739
CREATED:20231016T130620Z
LAST-MODIFIED:20231016T130620Z
UID:5993-1694908800-1695427199@heathwilliams.org
SUMMARY:Midwest Tent Revival Copy
DESCRIPTION:Pastor: Randy Glenn \nHeath Willaims
URL:https://heathwilliams.org/event/midwest-tent-revival-4-copy/
LOCATION:Midwest Tent Revival\, Indiana
END:VEVENT
BEGIN:VEVENT
DTSTART;VALUE=DATE:20230904
DTEND;VALUE=DATE:20230909
DTSTAMP:20260424T185739
CREATED:20230515T141333Z
LAST-MODIFIED:20230515T141351Z
UID:5965-1693785600-1694217599@heathwilliams.org
SUMMARY:Mount Victory
DESCRIPTION:Pastor: Ethan Greene \nHeath Willaims
URL:https://heathwilliams.org/event/mount-victory-2-copy/
LOCATION:Mount Victory\, 507 Mill Timber Creek Road\, Newlnd\, NC\, 28657\, United States
END:VEVENT
BEGIN:VEVENT
DTSTART;VALUE=DATE:20230828
DTEND;VALUE=DATE:20230902
DTSTAMP:20260424T185739
CREATED:20230221T004023Z
LAST-MODIFIED:20230221T004023Z
UID:5828-1693180800-1693612799@heathwilliams.org
SUMMARY:Mount Victory
DESCRIPTION:Pastor: Ethan Greene \nHeath Willaims
URL:https://heathwilliams.org/event/mount-victory-2/
LOCATION:Mount Victory\, 507 Mill Timber Creek Road\, Newlnd\, NC\, 28657\, United States
END:VEVENT
BEGIN:VEVENT
DTSTART;VALUE=DATE:20230827
DTEND;VALUE=DATE:20230828
DTSTAMP:20260424T185739
CREATED:20230515T141207Z
LAST-MODIFIED:20230515T141207Z
UID:5961-1693094400-1693180799@heathwilliams.org
SUMMARY:Pleasant Hill Baptist Church
DESCRIPTION:Evening Service \nPastor: Rem Austin \nHeath Willaims
URL:https://heathwilliams.org/event/pleasant-hill-baptist-church/
LOCATION:Pleasant Hill Baptist\, Newland\, NC\, United States
END:VEVENT
BEGIN:VEVENT
DTSTART;VALUE=DATE:20230827
DTEND;VALUE=DATE:20230828
DTSTAMP:20260424T185739
CREATED:20230221T004133Z
LAST-MODIFIED:20230221T004133Z
UID:5831-1693094400-1693180799@heathwilliams.org
SUMMARY:Stanleytown Amazing Grace Baptist Church
DESCRIPTION:Pastor: Greg Hodges \nAm service at 10:30 \nHeath Willaims
URL:https://heathwilliams.org/event/stanleytown-amazing-grace-baptist-church-5/
LOCATION:VA
END:VEVENT
END:VCALENDAR