BEGIN:VCALENDAR
VERSION:2.0
PRODID:-//Heath Williams Ministries - ECPv6.15.20//NONSGML v1.0//EN
CALSCALE:GREGORIAN
METHOD:PUBLISH
X-ORIGINAL-URL:https://heathwilliams.org
X-WR-CALDESC:Events for Heath Williams Ministries
REFRESH-INTERVAL;VALUE=DURATION:PT1H
X-Robots-Tag:noindex
X-PUBLISHED-TTL:PT1H
BEGIN:VTIMEZONE
TZID:America/New_York
BEGIN:DAYLIGHT
TZOFFSETFROM:-0500
TZOFFSETTO:-0400
TZNAME:EDT
DTSTART:20230312T070000
END:DAYLIGHT
BEGIN:STANDARD
TZOFFSETFROM:-0400
TZOFFSETTO:-0500
TZNAME:EST
DTSTART:20231105T060000
END:STANDARD
BEGIN:DAYLIGHT
TZOFFSETFROM:-0500
TZOFFSETTO:-0400
TZNAME:EDT
DTSTART:20240310T070000
END:DAYLIGHT
BEGIN:STANDARD
TZOFFSETFROM:-0400
TZOFFSETTO:-0500
TZNAME:EST
DTSTART:20241103T060000
END:STANDARD
BEGIN:DAYLIGHT
TZOFFSETFROM:-0500
TZOFFSETTO:-0400
TZNAME:EDT
DTSTART:20250309T070000
END:DAYLIGHT
BEGIN:STANDARD
TZOFFSETFROM:-0400
TZOFFSETTO:-0500
TZNAME:EST
DTSTART:20251102T060000
END:STANDARD
END:VTIMEZONE
BEGIN:VEVENT
DTSTART;VALUE=DATE:20240923
DTEND;VALUE=DATE:20240928
DTSTAMP:20260424T134118
CREATED:20240725T151318Z
LAST-MODIFIED:20240725T151318Z
UID:6423-1727049600-1727481599@heathwilliams.org
SUMMARY:Midwest Tent Meeting
DESCRIPTION:Pastor Randy Glenn \nHeath Willaims
URL:https://heathwilliams.org/event/midwest-tent-meeting-2/
LOCATION:Midwest Tent Revival\, Indiana
END:VEVENT
BEGIN:VEVENT
DTSTART;VALUE=DATE:20240922
DTEND;VALUE=DATE:20240923
DTSTAMP:20260424T134118
CREATED:20240725T151247Z
LAST-MODIFIED:20240725T151247Z
UID:6417-1726963200-1727049599@heathwilliams.org
SUMMARY:Lincoln Land Baptist Church
DESCRIPTION:Pastor Rod Mattoon \nHeath Willaims
URL:https://heathwilliams.org/event/lincoln-land-baptist-church/
LOCATION:Lincoln Land Baptist Church\, 4474 Camp Butler Rd\, Springfield\, IL
END:VEVENT
BEGIN:VEVENT
DTSTART;VALUE=DATE:20240915
DTEND;VALUE=DATE:20240921
DTSTAMP:20260424T134118
CREATED:20240725T151103Z
LAST-MODIFIED:20240725T151103Z
UID:6412-1726358400-1726876799@heathwilliams.org
SUMMARY:Midwest Tent Meeting
DESCRIPTION:Pastor Randy Glenn \nHeath Willaims
URL:https://heathwilliams.org/event/midwest-tent-meeting/
LOCATION:Midwest Tent Revival\, Indiana
END:VEVENT
BEGIN:VEVENT
DTSTART;VALUE=DATE:20240908
DTEND;VALUE=DATE:20240909
DTSTAMP:20260424T134118
CREATED:20240725T151003Z
LAST-MODIFIED:20240725T151003Z
UID:6407-1725753600-1725839999@heathwilliams.org
SUMMARY:Shining Light Baptist Church
DESCRIPTION:Pastor Gary Blalock \nHeath Willaims
URL:https://heathwilliams.org/event/shining-light-baptist-church-2/
LOCATION:Shining Light BC\, Greensboro\, NC\, United States
END:VEVENT
BEGIN:VEVENT
DTSTART;VALUE=DATE:20240826
DTEND;VALUE=DATE:20240907
DTSTAMP:20260424T134118
CREATED:20240725T150838Z
LAST-MODIFIED:20240725T150838Z
UID:6402-1724630400-1725667199@heathwilliams.org
SUMMARY:Mount Victory
DESCRIPTION:Pastor Ethan Greene \nHeath Willaims
URL:https://heathwilliams.org/event/mount-victory-3/
LOCATION:Mount Victory\, 507 Mill Timber Creek Road\, Newlnd\, NC\, 28657\, United States
END:VEVENT
BEGIN:VEVENT
DTSTART;VALUE=DATE:20240825
DTEND;VALUE=DATE:20240826
DTSTAMP:20260424T134118
CREATED:20240725T150810Z
LAST-MODIFIED:20240725T150810Z
UID:6397-1724544000-1724630399@heathwilliams.org
SUMMARY:Stanleytown Amazing Grace Baptist Church
DESCRIPTION:Pastor Greg Hodges \nHeath Willaims
URL:https://heathwilliams.org/event/stanleytown-amazing-grace-baptist-church-6/
LOCATION:Stanleytown Amazing Grace BC\, Stanleytown\, VA\, United States
END:VEVENT
BEGIN:VEVENT
DTSTART;VALUE=DATE:20240819
DTEND;VALUE=DATE:20240822
DTSTAMP:20260424T134118
CREATED:20240725T150655Z
LAST-MODIFIED:20240725T150655Z
UID:6392-1724025600-1724284799@heathwilliams.org
SUMMARY:Boston Prayer
DESCRIPTION:Heath Willaims
URL:https://heathwilliams.org/event/boston-prayer/
LOCATION:North Carolina
END:VEVENT
BEGIN:VEVENT
DTSTART;VALUE=DATE:20240818
DTEND;VALUE=DATE:20240819
DTSTAMP:20260424T134118
CREATED:20240725T150630Z
LAST-MODIFIED:20240725T150630Z
UID:6387-1723939200-1724025599@heathwilliams.org
SUMMARY:Liberty Baptist Church
DESCRIPTION:Pastor Ken Bowman \nHeath Willaims
URL:https://heathwilliams.org/event/liberty-baptist-church-3/
LOCATION:Liberty Baptist Church\, Bowden\, GA\, United States
END:VEVENT
BEGIN:VEVENT
DTSTART;VALUE=DATE:20240810
DTEND;VALUE=DATE:20240818
DTSTAMP:20260424T134118
CREATED:20240725T150603Z
LAST-MODIFIED:20240725T150603Z
UID:6382-1723248000-1723939199@heathwilliams.org
SUMMARY:Family Time
DESCRIPTION:Heath Willaims
URL:https://heathwilliams.org/event/family-time/
LOCATION:North Carolina
END:VEVENT
BEGIN:VEVENT
DTSTART;VALUE=DATE:20240806
DTEND;VALUE=DATE:20240807
DTSTAMP:20260424T134118
CREATED:20240725T150527Z
LAST-MODIFIED:20240725T150527Z
UID:6377-1722902400-1722988799@heathwilliams.org
SUMMARY:Trinity Baptist Church
DESCRIPTION:Pastor Mike Renfrow \nHeath Willaims
URL:https://heathwilliams.org/event/trinity-baptist-church-5/
LOCATION:Trinity Baptist Church – SC\, 1519 Steel Hill Rd.\, Lancaster\, SC\, 29720\, United States
END:VEVENT
BEGIN:VEVENT
DTSTART;VALUE=DATE:20240804
DTEND;VALUE=DATE:20240805
DTSTAMP:20260424T134118
CREATED:20240725T150233Z
LAST-MODIFIED:20240725T150234Z
UID:6370-1722729600-1722815999@heathwilliams.org
SUMMARY:Freedom Baptist Church
DESCRIPTION:Pastor Kellen Griffin \nHeath Willaims
URL:https://heathwilliams.org/event/freedom-baptist-church/
LOCATION:Freedom Baptist Church\, 50 Rice Road\, Asheville\, NC
END:VEVENT
BEGIN:VEVENT
DTSTART;VALUE=DATE:20240728
DTEND;VALUE=DATE:20240803
DTSTAMP:20260424T134118
CREATED:20240725T150104Z
LAST-MODIFIED:20240725T150104Z
UID:6365-1722124800-1722643199@heathwilliams.org
SUMMARY:Camp Victory
DESCRIPTION:Pastor Daniel Buchanan \nHeath Willaims
URL:https://heathwilliams.org/event/camp-victory-2/
LOCATION:New Beginnings Baptist Church\, 4415 Calico Road\, Lenoir\, NC\, United States
END:VEVENT
BEGIN:VEVENT
DTSTART;VALUE=DATE:20240724
DTEND;VALUE=DATE:20240729
DTSTAMP:20260424T134118
CREATED:20240725T150033Z
LAST-MODIFIED:20240725T150033Z
UID:6359-1721779200-1722211199@heathwilliams.org
SUMMARY:Land of the Sky Jubilee
DESCRIPTION:Pastor Winston Parrish \nHeath Willaims
URL:https://heathwilliams.org/event/land-of-the-sky-jubilee-3/
LOCATION:Trinity Baptist Church Asheville\, Asheville\, NC\, United States
END:VEVENT
BEGIN:VEVENT
DTSTART;VALUE=DATE:20240721
DTEND;VALUE=DATE:20240722
DTSTAMP:20260424T134118
CREATED:20240725T145940Z
LAST-MODIFIED:20240725T145940Z
UID:6354-1721520000-1721606399@heathwilliams.org
SUMMARY:Mt. Pisgah Baptist Church
DESCRIPTION:Pastor Dumas \nHeath Willaims
URL:https://heathwilliams.org/event/mt-pisgah-baptist-church-4/
LOCATION:Mt. Pisgah Baptist\, Athens\, AL\, United States
END:VEVENT
BEGIN:VEVENT
DTSTART;VALUE=DATE:20240715
DTEND;VALUE=DATE:20240720
DTSTAMP:20260424T134118
CREATED:20240725T145902Z
LAST-MODIFIED:20240725T145902Z
UID:6348-1721001600-1721433599@heathwilliams.org
SUMMARY:Arise Youth Conference
DESCRIPTION:Pastor CT Townsend \nHeath Willaims
URL:https://heathwilliams.org/event/arise-youth-conference-5/
LOCATION:Leconte Conference Center\, Pigeon Forge\, TN
END:VEVENT
BEGIN:VEVENT
DTSTART;VALUE=DATE:20240714
DTEND;VALUE=DATE:20240715
DTSTAMP:20260424T134118
CREATED:20240725T145806Z
LAST-MODIFIED:20240725T145806Z
UID:6342-1720915200-1721001599@heathwilliams.org
SUMMARY:Temple Baptist Church
DESCRIPTION:Pastor Charles Lawson \nHeath Willaims
URL:https://heathwilliams.org/event/temple-baptist-church-3/
LOCATION:Temple Baptist Church\, Knoxville\, TN\, United States
END:VEVENT
BEGIN:VEVENT
DTSTART;VALUE=DATE:20240624
DTEND;VALUE=DATE:20240627
DTSTAMP:20260424T134118
CREATED:20240725T145723Z
LAST-MODIFIED:20240725T145723Z
UID:6337-1719187200-1719446399@heathwilliams.org
SUMMARY:East Texas Campmeeting
DESCRIPTION:Pastor Shannon Crawford \nHeath Willaims
URL:https://heathwilliams.org/event/east-texas-campmeeting/
LOCATION:North Carolina
END:VEVENT
BEGIN:VEVENT
DTSTART;VALUE=DATE:20240623
DTEND;VALUE=DATE:20240624
DTSTAMP:20260424T134118
CREATED:20240725T145643Z
LAST-MODIFIED:20240725T145643Z
UID:6330-1719100800-1719187199@heathwilliams.org
SUMMARY:Victory Baptist Church
DESCRIPTION:Pastor Jeff Mabe \nLexington\, NC \nHeath Willaims
URL:https://heathwilliams.org/event/victory-baptist-church-20/
LOCATION:North Carolina
END:VEVENT
BEGIN:VEVENT
DTSTART;VALUE=DATE:20240620
DTEND;VALUE=DATE:20240621
DTSTAMP:20260424T134118
CREATED:20240725T145515Z
LAST-MODIFIED:20240725T145515Z
UID:6325-1718841600-1718927999@heathwilliams.org
SUMMARY:Mount Victory Youth Camp
DESCRIPTION:Pastor Ethan Greene \nHeath Willaims
URL:https://heathwilliams.org/event/mount-victory-youth-camp/
LOCATION:Mount Victory\, 507 Mill Timber Creek Road\, Newlnd\, NC\, 28657\, United States
END:VEVENT
BEGIN:VEVENT
DTSTART;VALUE=DATE:20240616
DTEND;VALUE=DATE:20240617
DTSTAMP:20260424T134118
CREATED:20240725T145441Z
LAST-MODIFIED:20240725T145441Z
UID:6320-1718496000-1718582399@heathwilliams.org
SUMMARY:Bibleway Baptist Church
DESCRIPTION:Pastor Michael Greene \nHeath Willaims
URL:https://heathwilliams.org/event/bibleway-baptist-church/
LOCATION:North Carolina
END:VEVENT
BEGIN:VEVENT
DTSTART;VALUE=DATE:20240610
DTEND;VALUE=DATE:20240615
DTSTAMP:20260424T134118
CREATED:20240725T145347Z
LAST-MODIFIED:20240725T145347Z
UID:6315-1717977600-1718409599@heathwilliams.org
SUMMARY:Old Savannah Tent Meeting
DESCRIPTION:Pastor Austin Frady \nHeath Willaims
URL:https://heathwilliams.org/event/old-savannah-tent-meeting/
LOCATION:North Carolina
END:VEVENT
BEGIN:VEVENT
DTSTART;VALUE=DATE:20240609
DTEND;VALUE=DATE:20240610
DTSTAMP:20260424T134118
CREATED:20240725T145312Z
LAST-MODIFIED:20240725T145312Z
UID:6310-1717891200-1717977599@heathwilliams.org
SUMMARY:Floyd Baptist Church
DESCRIPTION:Pastor Corey Engebretson \nHeath Willaims
URL:https://heathwilliams.org/event/floyd-baptist-church/
LOCATION:Floyd Missionary Baptist Church\, Eden\, NC\, United States
END:VEVENT
BEGIN:VEVENT
DTSTART;TZID=America/New_York:20240526T110000
DTEND;TZID=America/New_York:20240526T123000
DTSTAMP:20260424T134118
CREATED:20240725T145051Z
LAST-MODIFIED:20240725T145051Z
UID:6300-1716721200-1716726600@heathwilliams.org
SUMMARY:Unity Baptist Church
DESCRIPTION:Pastor Ronnie Barefield \nHeath Willaims
URL:https://heathwilliams.org/event/unity-baptist-church-3/
LOCATION:Unity Baptist Church\, Ripley\, MS\, United States
END:VEVENT
BEGIN:VEVENT
DTSTART;VALUE=DATE:20240526
DTEND;VALUE=DATE:20240601
DTSTAMP:20260424T134118
CREATED:20240725T145204Z
LAST-MODIFIED:20240725T145204Z
UID:6305-1716681600-1717199999@heathwilliams.org
SUMMARY:North Mississippi Tent Meeting
DESCRIPTION:Heath Willaims
URL:https://heathwilliams.org/event/north-mississippi-tent-meeting/
LOCATION:North Carolina
END:VEVENT
BEGIN:VEVENT
DTSTART;VALUE=DATE:20240508
DTEND;VALUE=DATE:20240509
DTSTAMP:20260424T134118
CREATED:20240227T223653Z
LAST-MODIFIED:20240227T223653Z
UID:6253-1715126400-1715212799@heathwilliams.org
SUMMARY:Victory Baptist Campmeeting
DESCRIPTION:Pastor CT Townsend \nHeath Willaims
URL:https://heathwilliams.org/event/victory-baptist-campmeeting/
LOCATION:Victory Baptist Church – Augusta\, North Augusta\, SC
END:VEVENT
BEGIN:VEVENT
DTSTART;VALUE=DATE:20240505
DTEND;VALUE=DATE:20240508
DTSTAMP:20260424T134118
CREATED:20240227T223548Z
LAST-MODIFIED:20240227T223548Z
UID:6250-1714867200-1715126399@heathwilliams.org
SUMMARY:Millcreek Baptist Church
DESCRIPTION:Pastor Calvin McCray \nHeath Willaims
URL:https://heathwilliams.org/event/millcreek-baptist-church/
LOCATION:Mill Creek Baptist Church\, Fall Branch\, TN\, United States
END:VEVENT
BEGIN:VEVENT
DTSTART;VALUE=DATE:20240429
DTEND;VALUE=DATE:20240502
DTSTAMP:20260424T134118
CREATED:20240227T223453Z
LAST-MODIFIED:20240227T223453Z
UID:6246-1714348800-1714607999@heathwilliams.org
SUMMARY:Tabernacle Baptist Church
DESCRIPTION:Pastor Phillip Johnson \nHeath Willaims
URL:https://heathwilliams.org/event/tabernacle-baptist-church-3/
LOCATION:North Carolina
END:VEVENT
BEGIN:VEVENT
DTSTART;VALUE=DATE:20240427
DTEND;VALUE=DATE:20240428
DTSTAMP:20260424T134118
CREATED:20240227T223319Z
LAST-MODIFIED:20240227T223319Z
UID:6242-1714176000-1714262399@heathwilliams.org
SUMMARY:Freedom Baptist Ladies Conference
DESCRIPTION:Heath Willaims
URL:https://heathwilliams.org/event/freedom-baptist-ladies-conference/
LOCATION:North Carolina
END:VEVENT
BEGIN:VEVENT
DTSTART;VALUE=DATE:20240426
DTEND;VALUE=DATE:20240429
DTSTAMP:20260424T134118
CREATED:20240227T223238Z
LAST-MODIFIED:20240227T223238Z
UID:6239-1714089600-1714348799@heathwilliams.org
SUMMARY:Beulah Baptist Church
DESCRIPTION:Pastor Neal Jackson \nHeath Willaims
URL:https://heathwilliams.org/event/beulah-baptist-church-11/
LOCATION:Beulah Baptist Church\, Bennett\, North Carolina
END:VEVENT
BEGIN:VEVENT
DTSTART;VALUE=DATE:20240421
DTEND;VALUE=DATE:20240425
DTSTAMP:20260424T134118
CREATED:20240227T223157Z
LAST-MODIFIED:20240227T223157Z
UID:6236-1713657600-1714003199@heathwilliams.org
SUMMARY:Oak Glenn Baptist Church
DESCRIPTION:Pastor Danny Sykes \nHeath Willaims
URL:https://heathwilliams.org/event/oak-glenn-baptist-church-3/
LOCATION:Oak Glenn Baptist\, Yuma\, VA\, United States
END:VEVENT
END:VCALENDAR